{"text_format":"1","workbook":"xlsx","n_sheets":4,"sheets":["はじめに","手控書_(1-200)","手控書_(201-)","リンクシート"],"not_rendered":{"charts":0,"images":7,"macros":1,"external_links":1,"defined_names":14,"comments":0,"pivot_tables":0},"unopened":[],"bounds":{"document_bytes":16777216,"sheet_cells":100000,"rows_first":2000,"rows_last":500,"rows_between":2000,"halvings":0,"cell_chars":16384,"cell_head_chars":4096},"cells_cut":0,"cells_raw":0,"read":"whole","date_system":"1900"}

{"sheet":"はじめに","index":0,"n_rows":54,"n_cols":11,"rows_kept":54,"cut":false,"hidden":false,"merged":[[2,1,2,4],[10,2,10,11],[54,1,54,10],[46,1,46,10],[38,1,38,5],[23,1,23,4],[24,1,24,4],[25,1,25,4],[23,5,23,6],[24,5,24,6],[25,5,25,6],[34,1,34,2],[35,1,35,2],[36,1,36,2],[21,1,21,4],[38,6,38,10],[29,3,29,5],[30,3,30,4],[29,7,29,10],[30,7,30,10],[34,3,34,4],[14,2,14,11],[35,3,35,4],[35,8,35,9],[36,3,36,4],[36,8,36,9],[21,5,21,7],[20,1,20,4],[22,5,22,6],[22,1,22,4],[18,1,18,4],[19,1,19,4],[18,5,18,7],[19,5,19,7],[20,5,20,7],[34,8,34,9],[32,2,32,4]]}
[]
[]
[null,"（　使用方法　）"]
[null,"①","基本情報を入力して下さい。（水色で表示されているのが入力の必要なセルです）"]
[null,"②","手控書シートに「葉分」・「タイプ」をプルダウンリストから選択し、重量を入力します。"]
[]
[]
[]
[]
[]
[]
[]
[]
[null,null,"※入力ミスがあるとセルが赤く表示されます。"]
[null,"③","はじめにのシートと手控書シートを印刷し、ご活用願います。"]
[null,null,"※入力ミスがあると特記事項欄に表示されます。"]
[]
[null,"基本情報を入力して下さい"]
[null,"契約番号",null,null,null,1234567]
[null,"氏　　名",null,null,null,"田村　一郎"]
[null,"総代区名",null,null,null,"たばこ"]
[null,"販売月日",null,null,null,"2025-12-10"]
[null,"販売面積",null,null,null,80,null,"ａ"]
[null,"Aタイプ価格",null,null,null,1903,"円","円/kg","A"]
[null,"Bタイプ価格",null,null,null,1336,"円","円/kg","B"]
[null,"P・S価格",null,null,null,150,"円","円/kg","P"]
[null,null,null,null,null,null,null,null,"S"]
[null,"あなたの販売見込結果"]
[]
[null,"契約番号",null,{"$f":"F19","v":1234567},null,null,"氏　名",{"$f":"F20","v":"田村　一郎"}]
[null,"販売面積",null,{"$f":"F23","v":80},null,"a","総代区",{"$f":"F21","v":"たばこ"}]
[]
[null,"販売日",{"$f":"F22","v":"2025-12-10"}]
[]
[null,"予定包数",null,{"$f":"リンクシート!D403","v":0},null,"包","１kg当代金",null,{"$f":"IF(F45>0,ROUND(K45/F45,0),\" \")","v":" "},{"$f":"IF(H35>0,ROUND(I35/H35,0),\" \")","v":" "},"円"]
[null,"予定重量",null,{"$f":"リンクシート!D402","v":0},null,"kg","10a当重量",null,{"$f":"IF(F45>0,ROUND(D36/F23*10,0),\" \")","v":" "},{"$f":"IF(G36>0,ROUND(G36/F36*10,0),\" \")","v":{"$error":"#VALUE!"}},"kg"]
[null,"予定買入代金",null,{"$f":"K45","v":0},null,"円","10a当代金",null,{"$f":"IF(F45>0,ROUND(D37/F23*10,0),\" \")","v":" "},{"$f":"IF(G37>0,ROUND(G37/E37*10,0),\" \")","v":{"$error":"#VALUE!"}},"円"]
[]
[null,"葉分タイプ別_重量（kg）",null,null,null,null,"葉分タイプ別_金額（円）"]
[null,"葉分タイプ別重量","A","B","色損計","合計","葉分タイプ別金額","A","B","色損計","合計"]
[null,"上葉",{"$f":"SUMIFS(リンクシート!$D$2:$D$401,リンクシート!$B$2:$B$401,$B$41,リンクシート!$C$2:$C$401,$C$40)","v":0},{"$f":"SUMIFS(リンクシート!$D$2:$D$401,リンクシート!$B$2:$B$401,$B$41,リンクシート!$C$2:$C$401,$D$40)","v":0},"-",{"$f":"SUM(C41:E41)","v":0},"上葉",{"$f":"ROUND(C41*$F$24,0)","v":0},{"$f":"ROUND(D41*$F$25,0)","v":0},"-",{"$f":"SUM(H41:J41)","v":0}]
[null,"本葉",{"$f":"SUMIFS(リンクシート!$D$2:$D$401,リンクシート!$B$2:$B$401,$B$42,リンクシート!$C$2:$C$401,$C$40)","v":0},{"$f":"SUMIFS(リンクシート!$D$2:$D$401,リンクシート!$B$2:$B$401,$B$42,リンクシート!$C$2:$C$401,$D$40)","v":0},{"$f":"SUMIFS(リンクシート!$D$2:$D$401,リンクシート!$B$2:$B$401,$B$42,リンクシート!$C$2:$C$401,I26)+SUMIFS(リンクシート!$D$2:$D$401,リンクシート!$B$2:$B$401,$B$42,リンクシート!$C$2:$C$401,I27)","v":0},{"$f":"SUM(C42:E42)","v":0},"本葉",{"$f":"ROUND(C42*$F$24,0)","v":0},{"$f":"ROUND(D42*$F$25,0)","v":0},{"$f":"ROUND(E42*$F$26,0)","v":0},{"$f":"SUM(H42:J42)","v":0}]
[null,"合葉",{"$f":"SUMIFS(リンクシート!$D$2:$D$401,リンクシート!$B$2:$B$401,$B$43,リンクシート!$C$2:$C$401,$C$40)","v":0},{"$f":"SUMIFS(リンクシート!$D$2:$D$401,リンクシート!$B$2:$B$401,$B$43,リンクシート!$C$2:$C$401,$D$40)","v":0},"-",0,"合葉",{"$f":"ROUND(C43*$F$24,0)","v":0},{"$f":"ROUND(D43*$F$25,0)","v":0},"-",0]
[null,"中葉",{"$f":"SUMIFS(リンクシート!$D$2:$D$401,リンクシート!$B$2:$B$401,$B$44,リンクシート!$C$2:$C$401,$C$40)","v":0},{"$f":"SUMIFS(リンクシート!$D$2:$D$401,リンクシート!$B$2:$B$401,$B$44,リンクシート!$C$2:$C$401,$D$40)","v":0},{"$f":"SUMIFS(リンクシート!$D$2:$D$401,リンクシート!$B$2:$B$401,$B$44,リンクシート!$C$2:$C$401,I26)+SUMIFS(リンクシート!$D$2:$D$401,リンクシート!$B$2:$B$401,$B$44,リンクシート!$C$2:$C$401,I27)","v":0},0,"中葉",{"$f":"ROUND(C44*$F$24,0)","v":0},{"$f":"ROUND(D44*$F$25,0)","v":0},{"$f":"ROUND(E44*$F$26,0)","v":0},0]
[null,"合計",{"$f":"SUM(C41:C44)","v":0},{"$f":"SUM(D41:D44)","v":0},{"$f":"SUM(E41:E44)","v":0},{"$f":"SUM(C45:E45)","v":0},"合計",{"$f":"SUM(H41:H44)","v":0},{"$f":"SUM(I41:I44)","v":0},0,{"$f":"SUM(H45:J45)","v":0}]
[]
[null,"特記事項"]
[]
[]
[]
[]
[]
[null,{"$f":"IF(D36=F45,\"\",\"※手控書の葉分・タイプが正しく入力されていません。\")","v":""}]
[null,{"$f":"IF(リンクシート!E402=0,\"\",\"※手控書の葉分・タイプ・重量の入力を確認して下さい。\")","v":""}]

{"sheet":"手控書_(1-200)","index":1,"n_rows":62,"n_cols":39,"rows_kept":62,"cut":false,"hidden":false,"merged":[[2,38,2,40],[0,4,0,5],[33,1,33,3],[33,5,33,6],[61,12,61,14],[61,18,61,20],[30,0,30,2],[61,0,61,2],[61,6,61,8],[30,6,30,8],[30,12,30,14],[30,18,30,20]]}
["葉たばこ販売手控書　",null,null,null,{"$f":"はじめに!F22","v":46001},null,null,"販売月日",null,{"$f":"はじめに!F22","v":"2025-12-10"},null,null,null,null,null,null,null,null,null,null,null,null,"【本人控え】　№1"]
[null,null,null,null,null,null,null,null,null,null,null,null,null,null,null,null,null,null,null,"出荷包数",null,{"$f":"はじめに!$D$35","v":0},"包"]
[null,null,null,null,null,null,null,null,null,null,null,null,null,null,null,null,null,null,null,"総 重 量",null,{"$f":"はじめに!$D$36","v":0},"kg",null,null,null,null,null,null,{"$f":"はじめに!F21","v":"たばこ"},null,"総代区",null,"契約番号",null,{"$f":"はじめに!F19","v":1234567},null,"氏　名",{"$f":"はじめに!F20","v":"田村　一郎"}]
[]
["№","葉 分","タイプ","重    量","備    考",null,"№","葉 分","タイプ","重    量","備    考",null,"№","葉 分","タイプ","重    量","備    考",null,"№","葉 分","タイプ","重    量","備    考"]
[1,null,null,null,null,{"$f":"IF(OR(C6=\"P\",C6=\"S\"),IF(OR(B6=\"上葉\",B6=\"合葉\"),1,0),0)","v":0},26,null,null,null,null,{"$f":"IF(OR(I6=\"P\",I6=\"S\"),IF(OR(H6=\"上葉\",H6=\"合葉\"),1,0),0)","v":0},51,null,null,null,null,{"$f":"IF(OR(O6=\"P\",O6=\"S\"),IF(OR(N6=\"上葉\",N6=\"合葉\"),1,0),0)","v":0},76,null,null,null,null,{"$f":"IF(OR(U6=\"P\",U6=\"S\"),IF(OR(T6=\"上葉\",T6=\"合葉\"),1,0),0)","v":0}]
[2,null,null,null,null,{"$f":"IF(OR(C7=\"P\",C7=\"S\"),IF(OR(B7=\"上葉\",B7=\"合葉\"),1,0),0)","v":0},27,null,null,null,null,{"$f":"IF(OR(I7=\"P\",I7=\"S\"),IF(OR(H7=\"上葉\",H7=\"合葉\"),1,0),0)","v":0},52,null,null,null,null,{"$f":"IF(OR(O7=\"P\",O7=\"S\"),IF(OR(N7=\"上葉\",N7=\"合葉\"),1,0),0)","v":0},77,null,null,null,null,{"$f":"IF(OR(U7=\"P\",U7=\"S\"),IF(OR(T7=\"上葉\",T7=\"合葉\"),1,0),0)","v":0}]
[3,null,null,null,null,0,28,null,null,null,null,0,53,null,null,null,null,0,78,null,null,null,null,0]
[4,null,null,null,null,0,29,null,null,null,null,0,54,null,null,null,null,0,79,null,null,null,null,0]
[5,null,null,null,null,0,30,null,null,null,null,0,55,null,null,null,null,0,80,null,null,null,null,0]
[6,null,null,null,null,0,31,null,null,null,null,{"$f":"IF(OR(I11=\"P\",I11=\"S\"),IF(OR(H11=\"上葉\",H11=\"合葉\"),1,0),0)","v":0},56,null,null,null,null,0,81,null,null,null,null,0]
[7,null,null,null,null,0,32,null,null,null,null,{"$f":"IF(OR(I12=\"P\",I12=\"S\"),IF(OR(H12=\"上葉\",H12=\"合葉\"),1,0),0)","v":0},57,null,null,null,null,0,82,null,null,null,null,0]
[8,null,null,null,null,0,33,null,null,null,null,0,58,null,null,null,null,0,83,null,null,null,null,0]
[9,null,null,null,null,0,34,null,null,null,null,0,59,null,null,null,null,0,84,null,null,null,null,0]
[10,null,null,null,null,0,35,null,null,null,null,0,60,null,null,null,null,0,85,null,null,null,null,0]
[11,null,null,null,null,0,36,null,null,null,null,0,61,null,null,null,null,0,86,null,null,null,null,0]
[12,null,null,null,null,0,37,null,null,null,null,0,62,null,null,null,null,0,87,null,null,null,null,0]
[13,null,null,null,null,0,38,null,null,null,null,0,63,null,null,null,null,0,88,null,null,null,null,0]
[14,null,null,null,null,{"$f":"IF(OR(C19=\"P\",C19=\"S\"),IF(OR(B19=\"上葉\",B19=\"合葉\"),1,0),0)","v":0},39,null,null,null,null,0,64,null,null,null,null,0,89,null,null,null,null,0]
[15,null,null,null,null,{"$f":"IF(OR(C20=\"P\",C20=\"S\"),IF(OR(B20=\"上葉\",B20=\"合葉\"),1,0),0)","v":0},40,null,null,null,null,0,65,null,null,null,null,0,90,null,null,null,null,0]
[16,null,null,null,null,0,41,null,null,null,null,0,66,null,null,null,null,0,91,null,null,null,null,0]
[17,null,null,null,null,0,42,null,null,null,null,0,67,null,null,null,null,0,92,null,null,null,null,0]
[18,null,null,null,null,0,43,null,null,null,null,0,68,null,null,null,null,{"$f":"IF(OR(O23=\"P\",O23=\"S\"),IF(OR(N23=\"上葉\",N23=\"合葉\"),1,0),0)","v":0},93,null,null,null,null,{"$f":"IF(OR(U23=\"P\",U23=\"S\"),IF(OR(T23=\"上葉\",T23=\"合葉\"),1,0),0)","v":0}]
[19,null,null,null,null,0,44,null,null,null,null,0,69,null,null,null,null,0,94,null,null,null,null,{"$f":"IF(OR(U24=\"P\",U24=\"S\"),IF(OR(T24=\"上葉\",T24=\"合葉\"),1,0),0)","v":0}]
[20,null,null,null,null,0,45,null,null,null,null,0,70,null,null,null,null,0,95,null,null,null,null,0]
[21,null,null,null,null,0,46,null,null,null,null,0,71,null,null,null,null,0,96,null,null,null,null,0]
[22,null,null,null,null,0,47,null,null,null,null,0,72,null,null,null,null,0,97,null,null,null,null,0]
[23,null,null,null,null,0,48,null,null,null,null,0,73,null,null,null,null,0,98,null,null,null,null,0]
[24,null,null,null,null,0,49,null,null,null,null,0,74,null,null,null,null,0,99,null,null,null,null,0]
[25,null,null,null,null,0,50,null,null,null,null,{"$f":"IF(OR(I30=\"P\",I30=\"S\"),IF(OR(H30=\"上葉\",H30=\"合葉\"),1,0),0)","v":0},75,null,null,null,null,{"$f":"IF(OR(O30=\"P\",O30=\"S\"),IF(OR(N30=\"上葉\",N30=\"合葉\"),1,0),0)","v":0},100,null,null,null,null,{"$f":"IF(OR(U30=\"P\",U30=\"S\"),IF(OR(T30=\"上葉\",T30=\"合葉\"),1,0),0)","v":0}]
["小    計",null,null,{"$f":"SUM(D6:D30)","v":0},null,null,"小    計",null,null,{"$f":"SUM(J6:J30)","v":0},null,null,"小    計",null,null,{"$f":"SUM(P6:P30)","v":0},null,null,"小    計",null,null,{"$f":"SUM(V6:V30)","v":0}]
["葉たばこ販売手控書　（令和　　　年産）",null,null,null,null,null,null,null,null,null,null,null,null,null,null,null,null,null,null,null,null,null,"【本人控え】　№2"]
[null,null,null,null,null,null,null,null,null,null,null,null,null,null,null,null,null,null,null,"出荷包数",null,null,"包"]
[null,"総代区",null,null,null,null,null,"契約番号",null,null,null,null,null,"氏　　　名",null,null,null,null,null,"総 重 量",null,null,"kg"]
[]
["№","葉 分","タイプ","重    量","備    考",null,"№","葉 分","タイプ","重    量","備    考",null,"№","葉 分","タイプ","重    量","備    考",null,"№","葉 分","タイプ","重    量","備    考"]
[101,null,null,null,null,{"$f":"IF(OR(C37=\"P\",C37=\"S\"),IF(OR(B37=\"上葉\",B37=\"合葉\"),1,0),0)","v":0},126,null,null,null,null,{"$f":"IF(OR(I37=\"P\",I37=\"S\"),IF(OR(H37=\"上葉\",H37=\"合葉\"),1,0),0)","v":0},151,null,null,null,null,{"$f":"IF(OR(O37=\"P\",O37=\"S\"),IF(OR(N37=\"上葉\",N37=\"合葉\"),1,0),0)","v":0},176,null,null,null,null,{"$f":"IF(OR(U37=\"P\",U37=\"S\"),IF(OR(T37=\"上葉\",T37=\"合葉\"),1,0),0)","v":0}]
[102,null,null,null,null,{"$f":"IF(OR(C38=\"P\",C38=\"S\"),IF(OR(B38=\"上葉\",B38=\"合葉\"),1,0),0)","v":0},127,null,null,null,null,{"$f":"IF(OR(I38=\"P\",I38=\"S\"),IF(OR(H38=\"上葉\",H38=\"合葉\"),1,0),0)","v":0},152,null,null,null,null,{"$f":"IF(OR(O38=\"P\",O38=\"S\"),IF(OR(N38=\"上葉\",N38=\"合葉\"),1,0),0)","v":0},177,null,null,null,null,{"$f":"IF(OR(U38=\"P\",U38=\"S\"),IF(OR(T38=\"上葉\",T38=\"合葉\"),1,0),0)","v":0}]
[103,null,null,null,null,0,128,null,null,null,null,0,153,null,null,null,null,0,178,null,null,null,null,0]
[104,null,null,null,null,0,129,null,null,null,null,0,154,null,null,null,null,0,179,null,null,null,null,0]
[105,null,null,null,null,0,130,null,null,null,null,0,155,null,null,null,null,0,180,null,null,null,null,0]
[106,null,null,null,null,0,131,null,null,null,null,0,156,null,null,null,null,0,181,null,null,null,null,0]
[107,null,null,null,null,0,132,null,null,null,null,0,157,null,null,null,null,0,182,null,null,null,null,0]
[108,null,null,null,null,0,133,null,null,null,null,0,158,null,null,null,null,0,183,null,null,null,null,0]
[109,null,null,null,null,0,134,null,null,null,null,0,159,null,null,null,null,0,184,null,null,null,null,0]
[110,null,null,null,null,0,135,null,null,null,null,0,160,null,null,null,null,0,185,null,null,null,null,0]
[111,null,null,null,null,0,136,null,null,null,null,0,161,null,null,null,null,0,186,null,null,null,null,0]
[112,null,null,null,null,0,137,null,null,null,null,0,162,null,null,null,null,0,187,null,null,null,null,0]
[113,null,null,null,null,0,138,null,null,null,null,0,163,null,null,null,null,0,188,null,null,null,null,0]
[114,null,null,null,null,0,139,null,null,null,null,0,164,null,null,null,null,0,189,null,null,null,null,0]
[115,null,null,null,null,0,140,null,null,null,null,0,165,null,null,null,null,0,190,null,null,null,null,0]
[116,null,null,null,null,0,141,null,null,null,null,0,166,null,null,null,null,0,191,null,null,null,null,0]
[117,null,null,null,null,0,142,null,null,null,null,0,167,null,null,null,null,0,192,null,null,null,null,0]
[118,null,null,null,null,{"$f":"IF(OR(C54=\"P\",C54=\"S\"),IF(OR(B54=\"上葉\",B54=\"合葉\"),1,0),0)","v":0},143,null,null,null,null,{"$f":"IF(OR(I54=\"P\",I54=\"S\"),IF(OR(H54=\"上葉\",H54=\"合葉\"),1,0),0)","v":0},168,null,null,null,null,{"$f":"IF(OR(O54=\"P\",O54=\"S\"),IF(OR(N54=\"上葉\",N54=\"合葉\"),1,0),0)","v":0},193,null,null,null,null,{"$f":"IF(OR(U54=\"P\",U54=\"S\"),IF(OR(T54=\"上葉\",T54=\"合葉\"),1,0),0)","v":0}]
[119,null,null,null,null,{"$f":"IF(OR(C55=\"P\",C55=\"S\"),IF(OR(B55=\"上葉\",B55=\"合葉\"),1,0),0)","v":0},144,null,null,null,null,{"$f":"IF(OR(I55=\"P\",I55=\"S\"),IF(OR(H55=\"上葉\",H55=\"合葉\"),1,0),0)","v":0},169,null,null,null,null,{"$f":"IF(OR(O55=\"P\",O55=\"S\"),IF(OR(N55=\"上葉\",N55=\"合葉\"),1,0),0)","v":0},194,null,null,null,null,{"$f":"IF(OR(U55=\"P\",U55=\"S\"),IF(OR(T55=\"上葉\",T55=\"合葉\"),1,0),0)","v":0}]
[120,null,null,null,null,0,145,null,null,null,null,0,170,null,null,null,null,0,195,null,null,null,null,0]
[121,null,null,null,null,0,146,null,null,null,null,0,171,null,null,null,null,0,196,null,null,null,null,0]
[122,null,null,null,null,0,147,null,null,null,null,0,172,null,null,null,null,0,197,null,null,null,null,0]
[123,null,null,null,null,0,148,null,null,null,null,0,173,null,null,null,null,0,198,null,null,null,null,0]
[124,null,null,null,null,0,149,null,null,null,null,0,174,null,null,null,null,0,199,null,null,null,null,0]
[125,null,null,null,null,{"$f":"IF(OR(C61=\"P\",C61=\"S\"),IF(OR(B61=\"上葉\",B61=\"合葉\"),1,0),0)","v":0},150,null,null,null,null,{"$f":"IF(OR(I61=\"P\",I61=\"S\"),IF(OR(H61=\"上葉\",H61=\"合葉\"),1,0),0)","v":0},175,null,null,null,null,{"$f":"IF(OR(O61=\"P\",O61=\"S\"),IF(OR(N61=\"上葉\",N61=\"合葉\"),1,0),0)","v":0},200,null,null,null,null,{"$f":"IF(OR(U61=\"P\",U61=\"S\"),IF(OR(T61=\"上葉\",T61=\"合葉\"),1,0),0)","v":0}]
["小    計",null,null,{"$f":"SUM(D37:D61)","v":0},null,null,"小    計",null,null,{"$f":"SUM(J37:J61)","v":0},null,null,"小    計",null,null,{"$f":"SUM(P37:P61)","v":0},null,null,"小    計",null,null,{"$f":"SUM(V37:V61)","v":0}]

{"sheet":"手控書_(201-)","index":2,"n_rows":62,"n_cols":39,"rows_kept":62,"cut":false,"hidden":false,"merged":[[33,5,33,6],[61,0,61,2],[61,6,61,8],[61,12,61,14],[61,18,61,20],[33,1,33,3],[0,4,0,5],[2,38,2,40],[2,34,2,35],[30,0,30,2],[30,6,30,8],[30,12,30,14],[30,18,30,20]]}
["葉たばこ販売手控書",null,null,null,{"$f":"はじめに!F22","v":46001},null,null,"販売月日",null,{"$f":"はじめに!F22","v":"2025-12-10"},null,null,null,null,null,null,null,null,null,null,null,null,"【本人控え】　№3"]
[null,null,null,null,null,null,null,null,null,null,null,null,null,null,null,null,null,null,null,"出荷包数",null,{"$f":"'手控書_(1-200)'!V2","v":0},"包"]
[null,null,null,null,null,null,null,null,null,null,null,null,null,null,null,null,null,null,null,"総 重 量",null,{"$f":"'手控書_(1-200)'!V3","v":0},"kg",null,null,null,null,null,null,{"$f":"はじめに!F21","v":"たばこ"},null,"総代区",null,"契約番号",{"$f":"はじめに!F19","v":1234567},null,null,"氏　名",{"$f":"はじめに!F20","v":"田村　一郎"}]
[]
["№","葉 分","タイプ","重    量","備    考",null,"№","葉 分","タイプ","重    量","備    考",null,"№","葉 分","タイプ","重    量","備    考",null,"№","葉 分","タイプ","重    量","備    考"]
[201,null,null,null,null,{"$f":"IF(OR(C6=\"P\",C6=\"S\"),IF(OR(B6=\"上葉\",B6=\"合葉\"),1,0),0)","v":0},226,null,null,null,null,{"$f":"IF(OR(I6=\"P\",I6=\"S\"),IF(OR(H6=\"上葉\",H6=\"合葉\"),1,0),0)","v":0},251,null,null,null,null,{"$f":"IF(OR(O6=\"P\",O6=\"S\"),IF(OR(N6=\"上葉\",N6=\"合葉\"),1,0),0)","v":0},276,null,null,null,null,{"$f":"IF(OR(U6=\"P\",U6=\"S\"),IF(OR(T6=\"上葉\",T6=\"合葉\"),1,0),0)","v":0}]
[202,null,null,null,null,{"$f":"IF(OR(C7=\"P\",C7=\"S\"),IF(OR(B7=\"上葉\",B7=\"合葉\"),1,0),0)","v":0},227,null,null,null,null,{"$f":"IF(OR(I7=\"P\",I7=\"S\"),IF(OR(H7=\"上葉\",H7=\"合葉\"),1,0),0)","v":0},252,null,null,null,null,{"$f":"IF(OR(O7=\"P\",O7=\"S\"),IF(OR(N7=\"上葉\",N7=\"合葉\"),1,0),0)","v":0},277,null,null,null,null,{"$f":"IF(OR(U7=\"P\",U7=\"S\"),IF(OR(T7=\"上葉\",T7=\"合葉\"),1,0),0)","v":0}]
[203,null,null,null,null,0,228,null,null,null,null,0,253,null,null,null,null,0,278,null,null,null,null,0]
[204,null,null,null,null,0,229,null,null,null,null,0,254,null,null,null,null,0,279,null,null,null,null,0]
[205,null,null,null,null,0,230,null,null,null,null,0,255,null,null,null,null,0,280,null,null,null,null,0]
[206,null,null,null,null,0,231,null,null,null,null,0,256,null,null,null,null,0,281,null,null,null,null,0]
[207,null,null,null,null,0,232,null,null,null,null,0,257,null,null,null,null,0,282,null,null,null,null,0]
[208,null,null,null,null,0,233,null,null,null,null,0,258,null,null,null,null,0,283,null,null,null,null,0]
[209,null,null,null,null,0,234,null,null,null,null,0,259,null,null,null,null,0,284,null,null,null,null,0]
[210,null,null,null,null,0,235,null,null,null,null,0,260,null,null,null,null,0,285,null,null,null,null,0]
[211,null,null,null,null,0,236,null,null,null,null,0,261,null,null,null,null,0,286,null,null,null,null,0]
[212,null,null,null,null,0,237,null,null,null,null,0,262,null,null,null,null,0,287,null,null,null,null,0]
[213,null,null,null,null,0,238,null,null,null,null,0,263,null,null,null,null,0,288,null,null,null,null,0]
[214,null,null,null,null,0,239,null,null,null,null,0,264,null,null,null,null,0,289,null,null,null,null,0]
[215,null,null,null,null,0,240,null,null,null,null,0,265,null,null,null,null,0,290,null,null,null,null,0]
[216,null,null,null,null,0,241,null,null,null,null,0,266,null,null,null,null,0,291,null,null,null,null,0]
[217,null,null,null,null,0,242,null,null,null,null,0,267,null,null,null,null,0,292,null,null,null,null,0]
[218,null,null,null,null,{"$f":"IF(OR(C23=\"P\",C23=\"S\"),IF(OR(B23=\"上葉\",B23=\"合葉\"),1,0),0)","v":0},243,null,null,null,null,{"$f":"IF(OR(I23=\"P\",I23=\"S\"),IF(OR(H23=\"上葉\",H23=\"合葉\"),1,0),0)","v":0},268,null,null,null,null,{"$f":"IF(OR(O23=\"P\",O23=\"S\"),IF(OR(N23=\"上葉\",N23=\"合葉\"),1,0),0)","v":0},293,null,null,null,null,{"$f":"IF(OR(U23=\"P\",U23=\"S\"),IF(OR(T23=\"上葉\",T23=\"合葉\"),1,0),0)","v":0}]
[219,null,null,null,null,{"$f":"IF(OR(C24=\"P\",C24=\"S\"),IF(OR(B24=\"上葉\",B24=\"合葉\"),1,0),0)","v":0},244,null,null,null,null,{"$f":"IF(OR(I24=\"P\",I24=\"S\"),IF(OR(H24=\"上葉\",H24=\"合葉\"),1,0),0)","v":0},269,null,null,null,null,{"$f":"IF(OR(O24=\"P\",O24=\"S\"),IF(OR(N24=\"上葉\",N24=\"合葉\"),1,0),0)","v":0},294,null,null,null,null,{"$f":"IF(OR(U24=\"P\",U24=\"S\"),IF(OR(T24=\"上葉\",T24=\"合葉\"),1,0),0)","v":0}]
[220,null,null,null,null,0,245,null,null,null,null,0,270,null,null,null,null,0,295,null,null,null,null,0]
[221,null,null,null,null,0,246,null,null,null,null,0,271,null,null,null,null,0,296,null,null,null,null,0]
[222,null,null,null,null,0,247,null,null,null,null,0,272,null,null,null,null,0,297,null,null,null,null,0]
[223,null,null,null,null,0,248,null,null,null,null,0,273,null,null,null,null,0,298,null,null,null,null,0]
[224,null,null,null,null,0,249,null,null,null,null,0,274,null,null,null,null,0,299,null,null,null,null,0]
[225,null,null,null,null,{"$f":"IF(OR(C30=\"P\",C30=\"S\"),IF(OR(B30=\"上葉\",B30=\"合葉\"),1,0),0)","v":0},250,null,null,null,null,{"$f":"IF(OR(I30=\"P\",I30=\"S\"),IF(OR(H30=\"上葉\",H30=\"合葉\"),1,0),0)","v":0},275,null,null,null,null,{"$f":"IF(OR(O30=\"P\",O30=\"S\"),IF(OR(N30=\"上葉\",N30=\"合葉\"),1,0),0)","v":0},300,null,null,null,null,{"$f":"IF(OR(U30=\"P\",U30=\"S\"),IF(OR(T30=\"上葉\",T30=\"合葉\"),1,0),0)","v":0}]
["小    計",null,null,{"$f":"SUM(D6:D30)","v":0},null,null,"小    計",null,null,{"$f":"SUM(J6:J30)","v":0},null,null,"小    計",null,null,{"$f":"SUM(P6:P30)","v":0},null,null,"小    計",null,null,{"$f":"SUM(V6:V30)","v":0}]
["葉たばこ販売手控書　（令和　　　年産）",null,null,null,null,null,null,null,null,null,null,null,null,null,null,null,null,null,null,null,null,null,"【本人控え】　№4"]
[null,null,null,null,null,null,null,null,null,null,null,null,null,null,null,null,null,null,null,"出荷包数",null,null,"包"]
[null,"総代区",null,null,null,null,null,"契約番号",null,null,null,null,null,"氏　　　名",null,null,null,null,null,"総 重 量",null,null,"kg"]
[]
["№","葉 分","タイプ","重    量","備    考",null,"№","葉 分","タイプ","重    量","備    考",null,"№","葉 分","タイプ","重    量","備    考",null,"№","葉 分","タイプ","重    量","備    考"]
[301,null,null,null,null,{"$f":"IF(OR(C37=\"P\",C37=\"S\"),IF(OR(B37=\"上葉\",B37=\"合葉\"),1,0),0)","v":0},326,null,null,null,null,{"$f":"IF(OR(I37=\"P\",I37=\"S\"),IF(OR(H37=\"上葉\",H37=\"合葉\"),1,0),0)","v":0},351,null,null,null,null,{"$f":"IF(OR(O37=\"P\",O37=\"S\"),IF(OR(N37=\"上葉\",N37=\"合葉\"),1,0),0)","v":0},376,null,null,null,null,{"$f":"IF(OR(U37=\"P\",U37=\"S\"),IF(OR(T37=\"上葉\",T37=\"合葉\"),1,0),0)","v":0}]
[302,null,null,null,null,{"$f":"IF(OR(C38=\"P\",C38=\"S\"),IF(OR(B38=\"上葉\",B38=\"合葉\"),1,0),0)","v":0},327,null,null,null,null,{"$f":"IF(OR(I38=\"P\",I38=\"S\"),IF(OR(H38=\"上葉\",H38=\"合葉\"),1,0),0)","v":0},352,null,null,null,null,{"$f":"IF(OR(O38=\"P\",O38=\"S\"),IF(OR(N38=\"上葉\",N38=\"合葉\"),1,0),0)","v":0},377,null,null,null,null,{"$f":"IF(OR(U38=\"P\",U38=\"S\"),IF(OR(T38=\"上葉\",T38=\"合葉\"),1,0),0)","v":0}]
[303,null,null,null,null,0,328,null,null,null,null,0,353,null,null,null,null,0,378,null,null,null,null,0]
[304,null,null,null,null,0,329,null,null,null,null,0,354,null,null,null,null,0,379,null,null,null,null,0]
[305,null,null,null,null,0,330,null,null,null,null,0,355,null,null,null,null,0,380,null,null,null,null,0]
[306,null,null,null,null,0,331,null,null,null,null,0,356,null,null,null,null,0,381,null,null,null,null,0]
[307,null,null,null,null,0,332,null,null,null,null,0,357,null,null,null,null,0,382,null,null,null,null,0]
[308,null,null,null,null,0,333,null,null,null,null,0,358,null,null,null,null,0,383,null,null,null,null,0]
[309,null,null,null,null,0,334,null,null,null,null,0,359,null,null,null,null,0,384,null,null,null,null,0]
[310,null,null,null,null,0,335,null,null,null,null,0,360,null,null,null,null,0,385,null,null,null,null,0]
[311,null,null,null,null,0,336,null,null,null,null,0,361,null,null,null,null,0,386,null,null,null,null,0]
[312,null,null,null,null,0,337,null,null,null,null,0,362,null,null,null,null,0,387,null,null,null,null,0]
[313,null,null,null,null,0,338,null,null,null,null,0,363,null,null,null,null,0,388,null,null,null,null,0]
[314,null,null,null,null,0,339,null,null,null,null,0,364,null,null,null,null,0,389,null,null,null,null,0]
[315,null,null,null,null,0,340,null,null,null,null,0,365,null,null,null,null,0,390,null,null,null,null,0]
[316,null,null,null,null,0,341,null,null,null,null,0,366,null,null,null,null,0,391,null,null,null,null,0]
[317,null,null,null,null,0,342,null,null,null,null,0,367,null,null,null,null,0,392,null,null,null,null,0]
[318,null,null,null,null,{"$f":"IF(OR(C54=\"P\",C54=\"S\"),IF(OR(B54=\"上葉\",B54=\"合葉\"),1,0),0)","v":0},343,null,null,null,null,{"$f":"IF(OR(I54=\"P\",I54=\"S\"),IF(OR(H54=\"上葉\",H54=\"合葉\"),1,0),0)","v":0},368,null,null,null,null,{"$f":"IF(OR(O54=\"P\",O54=\"S\"),IF(OR(N54=\"上葉\",N54=\"合葉\"),1,0),0)","v":0},393,null,null,null,null,{"$f":"IF(OR(U54=\"P\",U54=\"S\"),IF(OR(T54=\"上葉\",T54=\"合葉\"),1,0),0)","v":0}]
[319,null,null,null,null,{"$f":"IF(OR(C55=\"P\",C55=\"S\"),IF(OR(B55=\"上葉\",B55=\"合葉\"),1,0),0)","v":0},344,null,null,null,null,{"$f":"IF(OR(I55=\"P\",I55=\"S\"),IF(OR(H55=\"上葉\",H55=\"合葉\"),1,0),0)","v":0},369,null,null,null,null,{"$f":"IF(OR(O55=\"P\",O55=\"S\"),IF(OR(N55=\"上葉\",N55=\"合葉\"),1,0),0)","v":0},394,null,null,null,null,{"$f":"IF(OR(U55=\"P\",U55=\"S\"),IF(OR(T55=\"上葉\",T55=\"合葉\"),1,0),0)","v":0}]
[320,null,null,null,null,0,345,null,null,null,null,0,370,null,null,null,null,0,395,null,null,null,null,0]
[321,null,null,null,null,0,346,null,null,null,null,0,371,null,null,null,null,0,396,null,null,null,null,0]
[322,null,null,null,null,0,347,null,null,null,null,0,372,null,null,null,null,0,397,null,null,null,null,0]
[323,null,null,null,null,0,348,null,null,null,null,0,373,null,null,null,null,0,398,null,null,null,null,0]
[324,null,null,null,null,0,349,null,null,null,null,0,374,null,null,null,null,0,399,null,null,null,null,0]
[325,null,null,null,null,{"$f":"IF(OR(C61=\"P\",C61=\"S\"),IF(OR(B61=\"上葉\",B61=\"合葉\"),1,0),0)","v":0},350,null,null,null,null,{"$f":"IF(OR(I61=\"P\",I61=\"S\"),IF(OR(H61=\"上葉\",H61=\"合葉\"),1,0),0)","v":0},375,null,null,null,null,{"$f":"IF(OR(O61=\"P\",O61=\"S\"),IF(OR(N61=\"上葉\",N61=\"合葉\"),1,0),0)","v":0},400,null,null,null,null,{"$f":"IF(OR(U61=\"P\",U61=\"S\"),IF(OR(T61=\"上葉\",T61=\"合葉\"),1,0),0)","v":0}]
["小    計",null,null,{"$f":"SUM(D37:D61)","v":0},null,null,"小    計",null,null,{"$f":"SUM(J37:J61)","v":0},null,null,"小    計",null,null,{"$f":"SUM(P37:P61)","v":0},null,null,"小    計",null,null,{"$f":"SUM(V37:V61)","v":0}]

{"sheet":"リンクシート","index":3,"n_rows":403,"n_cols":5,"rows_kept":403,"cut":false,"hidden":true,"merged":[]}
[{"$f":"'手控書_(1-200)'!A5","v":"№"},{"$f":"'手控書_(1-200)'!B5","v":"葉 分"},{"$f":"'手控書_(1-200)'!C5","v":"タイプ"},{"$f":"'手控書_(1-200)'!D5","v":"重    量"}]
[{"$f":"'手控書_(1-200)'!A6","v":1},{"$f":"'手控書_(1-200)'!B6","v":0},{"$f":"'手控書_(1-200)'!C6","v":0},{"$f":"'手控書_(1-200)'!D6","v":0},{"$f":"IF(COUNTIF(B2:D2,0)=3,0,IF(COUNTIF(B2:D2,\"<> 0\")=3,0,1))","v":0}]
[{"$f":"'手控書_(1-200)'!A7","v":2},{"$f":"'手控書_(1-200)'!B7","v":0},{"$f":"'手控書_(1-200)'!C7","v":0},{"$f":"'手控書_(1-200)'!D7","v":0},{"$f":"IF(COUNTIF(B3:D3,0)=3,0,IF(COUNTIF(B3:D3,\"<> 0\")=3,0,1))","v":0}]
[{"$f":"'手控書_(1-200)'!A8","v":3},{"$f":"'手控書_(1-200)'!B8","v":0},{"$f":"'手控書_(1-200)'!C8","v":0},{"$f":"'手控書_(1-200)'!D8","v":0},0]
[{"$f":"'手控書_(1-200)'!A9","v":4},{"$f":"'手控書_(1-200)'!B9","v":0},{"$f":"'手控書_(1-200)'!C9","v":0},{"$f":"'手控書_(1-200)'!D9","v":0},0]
[{"$f":"'手控書_(1-200)'!A10","v":5},{"$f":"'手控書_(1-200)'!B10","v":0},{"$f":"'手控書_(1-200)'!C10","v":0},{"$f":"'手控書_(1-200)'!D10","v":0},0]
[{"$f":"'手控書_(1-200)'!A11","v":6},{"$f":"'手控書_(1-200)'!B11","v":0},{"$f":"'手控書_(1-200)'!C11","v":0},{"$f":"'手控書_(1-200)'!D11","v":0},0]
[{"$f":"'手控書_(1-200)'!A12","v":7},{"$f":"'手控書_(1-200)'!B12","v":0},{"$f":"'手控書_(1-200)'!C12","v":0},{"$f":"'手控書_(1-200)'!D12","v":0},0]
[{"$f":"'手控書_(1-200)'!A13","v":8},{"$f":"'手控書_(1-200)'!B13","v":0},{"$f":"'手控書_(1-200)'!C13","v":0},{"$f":"'手控書_(1-200)'!D13","v":0},0]
[{"$f":"'手控書_(1-200)'!A14","v":9},{"$f":"'手控書_(1-200)'!B14","v":0},{"$f":"'手控書_(1-200)'!C14","v":0},{"$f":"'手控書_(1-200)'!D14","v":0},0]
[{"$f":"'手控書_(1-200)'!A15","v":10},{"$f":"'手控書_(1-200)'!B15","v":0},{"$f":"'手控書_(1-200)'!C15","v":0},{"$f":"'手控書_(1-200)'!D15","v":0},0]
[{"$f":"'手控書_(1-200)'!A16","v":11},{"$f":"'手控書_(1-200)'!B16","v":0},{"$f":"'手控書_(1-200)'!C16","v":0},{"$f":"'手控書_(1-200)'!D16","v":0},0]
[{"$f":"'手控書_(1-200)'!A17","v":12},{"$f":"'手控書_(1-200)'!B17","v":0},{"$f":"'手控書_(1-200)'!C17","v":0},{"$f":"'手控書_(1-200)'!D17","v":0},0]
[{"$f":"'手控書_(1-200)'!A18","v":13},{"$f":"'手控書_(1-200)'!B18","v":0},{"$f":"'手控書_(1-200)'!C18","v":0},{"$f":"'手控書_(1-200)'!D18","v":0},0]
[{"$f":"'手控書_(1-200)'!A19","v":14},{"$f":"'手控書_(1-200)'!B19","v":0},{"$f":"'手控書_(1-200)'!C19","v":0},{"$f":"'手控書_(1-200)'!D19","v":0},0]
[{"$f":"'手控書_(1-200)'!A20","v":15},{"$f":"'手控書_(1-200)'!B20","v":0},{"$f":"'手控書_(1-200)'!C20","v":0},{"$f":"'手控書_(1-200)'!D20","v":0},0]
[{"$f":"'手控書_(1-200)'!A21","v":16},{"$f":"'手控書_(1-200)'!B21","v":0},{"$f":"'手控書_(1-200)'!C21","v":0},{"$f":"'手控書_(1-200)'!D21","v":0},0]
[{"$f":"'手控書_(1-200)'!A22","v":17},{"$f":"'手控書_(1-200)'!B22","v":0},{"$f":"'手控書_(1-200)'!C22","v":0},{"$f":"'手控書_(1-200)'!D22","v":0},0]
[{"$f":"'手控書_(1-200)'!A23","v":18},{"$f":"'手控書_(1-200)'!B23","v":0},{"$f":"'手控書_(1-200)'!C23","v":0},{"$f":"'手控書_(1-200)'!D23","v":0},0]
[{"$f":"'手控書_(1-200)'!A24","v":19},{"$f":"'手控書_(1-200)'!B24","v":0},{"$f":"'手控書_(1-200)'!C24","v":0},{"$f":"'手控書_(1-200)'!D24","v":0},0]
[{"$f":"'手控書_(1-200)'!A25","v":20},{"$f":"'手控書_(1-200)'!B25","v":0},{"$f":"'手控書_(1-200)'!C25","v":0},{"$f":"'手控書_(1-200)'!D25","v":0},0]
[{"$f":"'手控書_(1-200)'!A26","v":21},{"$f":"'手控書_(1-200)'!B26","v":0},{"$f":"'手控書_(1-200)'!C26","v":0},{"$f":"'手控書_(1-200)'!D26","v":0},0]
[{"$f":"'手控書_(1-200)'!A27","v":22},{"$f":"'手控書_(1-200)'!B27","v":0},{"$f":"'手控書_(1-200)'!C27","v":0},{"$f":"'手控書_(1-200)'!D27","v":0},0]
[{"$f":"'手控書_(1-200)'!A28","v":23},{"$f":"'手控書_(1-200)'!B28","v":0},{"$f":"'手控書_(1-200)'!C28","v":0},{"$f":"'手控書_(1-200)'!D28","v":0},0]
[{"$f":"'手控書_(1-200)'!A29","v":24},{"$f":"'手控書_(1-200)'!B29","v":0},{"$f":"'手控書_(1-200)'!C29","v":0},{"$f":"'手控書_(1-200)'!D29","v":0},0]
[{"$f":"'手控書_(1-200)'!A30","v":25},{"$f":"'手控書_(1-200)'!B30","v":0},{"$f":"'手控書_(1-200)'!C30","v":0},{"$f":"'手控書_(1-200)'!D30","v":0},0]
[{"$f":"'手控書_(1-200)'!G6","v":26},{"$f":"'手控書_(1-200)'!H6","v":0},{"$f":"'手控書_(1-200)'!I6","v":0},{"$f":"'手控書_(1-200)'!J6","v":0},0]
[{"$f":"'手控書_(1-200)'!G7","v":27},{"$f":"'手控書_(1-200)'!H7","v":0},{"$f":"'手控書_(1-200)'!I7","v":0},{"$f":"'手控書_(1-200)'!J7","v":0},0]
[{"$f":"'手控書_(1-200)'!G8","v":28},{"$f":"'手控書_(1-200)'!H8","v":0},{"$f":"'手控書_(1-200)'!I8","v":0},{"$f":"'手控書_(1-200)'!J8","v":0},0]
[{"$f":"'手控書_(1-200)'!G9","v":29},{"$f":"'手控書_(1-200)'!H9","v":0},{"$f":"'手控書_(1-200)'!I9","v":0},{"$f":"'手控書_(1-200)'!J9","v":0},0]
[{"$f":"'手控書_(1-200)'!G10","v":30},{"$f":"'手控書_(1-200)'!H10","v":0},{"$f":"'手控書_(1-200)'!I10","v":0},{"$f":"'手控書_(1-200)'!J10","v":0},0]
[{"$f":"'手控書_(1-200)'!G11","v":31},{"$f":"'手控書_(1-200)'!H11","v":0},{"$f":"'手控書_(1-200)'!I11","v":0},{"$f":"'手控書_(1-200)'!J11","v":0},0]
[{"$f":"'手控書_(1-200)'!G12","v":32},{"$f":"'手控書_(1-200)'!H12","v":0},{"$f":"'手控書_(1-200)'!I12","v":0},{"$f":"'手控書_(1-200)'!J12","v":0},0]
[{"$f":"'手控書_(1-200)'!G13","v":33},{"$f":"'手控書_(1-200)'!H13","v":0},{"$f":"'手控書_(1-200)'!I13","v":0},{"$f":"'手控書_(1-200)'!J13","v":0},0]
[{"$f":"'手控書_(1-200)'!G14","v":34},{"$f":"'手控書_(1-200)'!H14","v":0},{"$f":"'手控書_(1-200)'!I14","v":0},{"$f":"'手控書_(1-200)'!J14","v":0},0]
[{"$f":"'手控書_(1-200)'!G15","v":35},{"$f":"'手控書_(1-200)'!H15","v":0},{"$f":"'手控書_(1-200)'!I15","v":0},{"$f":"'手控書_(1-200)'!J15","v":0},0]
[{"$f":"'手控書_(1-200)'!G16","v":36},{"$f":"'手控書_(1-200)'!H16","v":0},{"$f":"'手控書_(1-200)'!I16","v":0},{"$f":"'手控書_(1-200)'!J16","v":0},0]
[{"$f":"'手控書_(1-200)'!G17","v":37},{"$f":"'手控書_(1-200)'!H17","v":0},{"$f":"'手控書_(1-200)'!I17","v":0},{"$f":"'手控書_(1-200)'!J17","v":0},0]
[{"$f":"'手控書_(1-200)'!G18","v":38},{"$f":"'手控書_(1-200)'!H18","v":0},{"$f":"'手控書_(1-200)'!I18","v":0},{"$f":"'手控書_(1-200)'!J18","v":0},0]
[{"$f":"'手控書_(1-200)'!G19","v":39},{"$f":"'手控書_(1-200)'!H19","v":0},{"$f":"'手控書_(1-200)'!I19","v":0},{"$f":"'手控書_(1-200)'!J19","v":0},0]
[{"$f":"'手控書_(1-200)'!G20","v":40},{"$f":"'手控書_(1-200)'!H20","v":0},{"$f":"'手控書_(1-200)'!I20","v":0},{"$f":"'手控書_(1-200)'!J20","v":0},0]
[{"$f":"'手控書_(1-200)'!G21","v":41},{"$f":"'手控書_(1-200)'!H21","v":0},{"$f":"'手控書_(1-200)'!I21","v":0},{"$f":"'手控書_(1-200)'!J21","v":0},0]
[{"$f":"'手控書_(1-200)'!G22","v":42},{"$f":"'手控書_(1-200)'!H22","v":0},{"$f":"'手控書_(1-200)'!I22","v":0},{"$f":"'手控書_(1-200)'!J22","v":0},0]
[{"$f":"'手控書_(1-200)'!G23","v":43},{"$f":"'手控書_(1-200)'!H23","v":0},{"$f":"'手控書_(1-200)'!I23","v":0},{"$f":"'手控書_(1-200)'!J23","v":0},0]
[{"$f":"'手控書_(1-200)'!G24","v":44},{"$f":"'手控書_(1-200)'!H24","v":0},{"$f":"'手控書_(1-200)'!I24","v":0},{"$f":"'手控書_(1-200)'!J24","v":0},0]
[{"$f":"'手控書_(1-200)'!G25","v":45},{"$f":"'手控書_(1-200)'!H25","v":0},{"$f":"'手控書_(1-200)'!I25","v":0},{"$f":"'手控書_(1-200)'!J25","v":0},0]
[{"$f":"'手控書_(1-200)'!G26","v":46},{"$f":"'手控書_(1-200)'!H26","v":0},{"$f":"'手控書_(1-200)'!I26","v":0},{"$f":"'手控書_(1-200)'!J26","v":0},0]
[{"$f":"'手控書_(1-200)'!G27","v":47},{"$f":"'手控書_(1-200)'!H27","v":0},{"$f":"'手控書_(1-200)'!I27","v":0},{"$f":"'手控書_(1-200)'!J27","v":0},0]
[{"$f":"'手控書_(1-200)'!G28","v":48},{"$f":"'手控書_(1-200)'!H28","v":0},{"$f":"'手控書_(1-200)'!I28","v":0},{"$f":"'手控書_(1-200)'!J28","v":0},0]
[{"$f":"'手控書_(1-200)'!G29","v":49},{"$f":"'手控書_(1-200)'!H29","v":0},{"$f":"'手控書_(1-200)'!I29","v":0},{"$f":"'手控書_(1-200)'!J29","v":0},0]
[{"$f":"'手控書_(1-200)'!G30","v":50},{"$f":"'手控書_(1-200)'!H30","v":0},{"$f":"'手控書_(1-200)'!I30","v":0},{"$f":"'手控書_(1-200)'!J30","v":0},0]
[{"$f":"'手控書_(1-200)'!M6","v":51},{"$f":"'手控書_(1-200)'!N6","v":0},{"$f":"'手控書_(1-200)'!O6","v":0},{"$f":"'手控書_(1-200)'!P6","v":0},0]
[{"$f":"'手控書_(1-200)'!M7","v":52},{"$f":"'手控書_(1-200)'!N7","v":0},{"$f":"'手控書_(1-200)'!O7","v":0},{"$f":"'手控書_(1-200)'!P7","v":0},0]
[{"$f":"'手控書_(1-200)'!M8","v":53},{"$f":"'手控書_(1-200)'!N8","v":0},{"$f":"'手控書_(1-200)'!O8","v":0},{"$f":"'手控書_(1-200)'!P8","v":0},0]
[{"$f":"'手控書_(1-200)'!M9","v":54},{"$f":"'手控書_(1-200)'!N9","v":0},{"$f":"'手控書_(1-200)'!O9","v":0},{"$f":"'手控書_(1-200)'!P9","v":0},0]
[{"$f":"'手控書_(1-200)'!M10","v":55},{"$f":"'手控書_(1-200)'!N10","v":0},{"$f":"'手控書_(1-200)'!O10","v":0},{"$f":"'手控書_(1-200)'!P10","v":0},0]
[{"$f":"'手控書_(1-200)'!M11","v":56},{"$f":"'手控書_(1-200)'!N11","v":0},{"$f":"'手控書_(1-200)'!O11","v":0},{"$f":"'手控書_(1-200)'!P11","v":0},0]
[{"$f":"'手控書_(1-200)'!M12","v":57},{"$f":"'手控書_(1-200)'!N12","v":0},{"$f":"'手控書_(1-200)'!O12","v":0},{"$f":"'手控書_(1-200)'!P12","v":0},0]
[{"$f":"'手控書_(1-200)'!M13","v":58},{"$f":"'手控書_(1-200)'!N13","v":0},{"$f":"'手控書_(1-200)'!O13","v":0},{"$f":"'手控書_(1-200)'!P13","v":0},0]
[{"$f":"'手控書_(1-200)'!M14","v":59},{"$f":"'手控書_(1-200)'!N14","v":0},{"$f":"'手控書_(1-200)'!O14","v":0},{"$f":"'手控書_(1-200)'!P14","v":0},0]
[{"$f":"'手控書_(1-200)'!M15","v":60},{"$f":"'手控書_(1-200)'!N15","v":0},{"$f":"'手控書_(1-200)'!O15","v":0},{"$f":"'手控書_(1-200)'!P15","v":0},0]
[{"$f":"'手控書_(1-200)'!M16","v":61},{"$f":"'手控書_(1-200)'!N16","v":0},{"$f":"'手控書_(1-200)'!O16","v":0},{"$f":"'手控書_(1-200)'!P16","v":0},0]
[{"$f":"'手控書_(1-200)'!M17","v":62},{"$f":"'手控書_(1-200)'!N17","v":0},{"$f":"'手控書_(1-200)'!O17","v":0},{"$f":"'手控書_(1-200)'!P17","v":0},0]
[{"$f":"'手控書_(1-200)'!M18","v":63},{"$f":"'手控書_(1-200)'!N18","v":0},{"$f":"'手控書_(1-200)'!O18","v":0},{"$f":"'手控書_(1-200)'!P18","v":0},0]
[{"$f":"'手控書_(1-200)'!M19","v":64},{"$f":"'手控書_(1-200)'!N19","v":0},{"$f":"'手控書_(1-200)'!O19","v":0},{"$f":"'手控書_(1-200)'!P19","v":0},0]
[{"$f":"'手控書_(1-200)'!M20","v":65},{"$f":"'手控書_(1-200)'!N20","v":0},{"$f":"'手控書_(1-200)'!O20","v":0},{"$f":"'手控書_(1-200)'!P20","v":0},0]
[{"$f":"'手控書_(1-200)'!M21","v":66},{"$f":"'手控書_(1-200)'!N21","v":0},{"$f":"'手控書_(1-200)'!O21","v":0},{"$f":"'手控書_(1-200)'!P21","v":0},{"$f":"IF(COUNTIF(B67:D67,0)=3,0,IF(COUNTIF(B67:D67,\"<> 0\")=3,0,1))","v":0}]
[{"$f":"'手控書_(1-200)'!M22","v":67},{"$f":"'手控書_(1-200)'!N22","v":0},{"$f":"'手控書_(1-200)'!O22","v":0},{"$f":"'手控書_(1-200)'!P22","v":0},0]
[{"$f":"'手控書_(1-200)'!M23","v":68},{"$f":"'手控書_(1-200)'!N23","v":0},{"$f":"'手控書_(1-200)'!O23","v":0},{"$f":"'手控書_(1-200)'!P23","v":0},0]
[{"$f":"'手控書_(1-200)'!M24","v":69},{"$f":"'手控書_(1-200)'!N24","v":0},{"$f":"'手控書_(1-200)'!O24","v":0},{"$f":"'手控書_(1-200)'!P24","v":0},0]
[{"$f":"'手控書_(1-200)'!M25","v":70},{"$f":"'手控書_(1-200)'!N25","v":0},{"$f":"'手控書_(1-200)'!O25","v":0},{"$f":"'手控書_(1-200)'!P25","v":0},0]
[{"$f":"'手控書_(1-200)'!M26","v":71},{"$f":"'手控書_(1-200)'!N26","v":0},{"$f":"'手控書_(1-200)'!O26","v":0},{"$f":"'手控書_(1-200)'!P26","v":0},0]
[{"$f":"'手控書_(1-200)'!M27","v":72},{"$f":"'手控書_(1-200)'!N27","v":0},{"$f":"'手控書_(1-200)'!O27","v":0},{"$f":"'手控書_(1-200)'!P27","v":0},0]
[{"$f":"'手控書_(1-200)'!M28","v":73},{"$f":"'手控書_(1-200)'!N28","v":0},{"$f":"'手控書_(1-200)'!O28","v":0},{"$f":"'手控書_(1-200)'!P28","v":0},0]
[{"$f":"'手控書_(1-200)'!M29","v":74},{"$f":"'手控書_(1-200)'!N29","v":0},{"$f":"'手控書_(1-200)'!O29","v":0},{"$f":"'手控書_(1-200)'!P29","v":0},0]
[{"$f":"'手控書_(1-200)'!M30","v":75},{"$f":"'手控書_(1-200)'!N30","v":0},{"$f":"'手控書_(1-200)'!O30","v":0},{"$f":"'手控書_(1-200)'!P30","v":0},0]
[{"$f":"'手控書_(1-200)'!S6","v":76},{"$f":"'手控書_(1-200)'!T6","v":0},{"$f":"'手控書_(1-200)'!U6","v":0},{"$f":"'手控書_(1-200)'!V6","v":0},0]
[{"$f":"'手控書_(1-200)'!S7","v":77},{"$f":"'手控書_(1-200)'!T7","v":0},{"$f":"'手控書_(1-200)'!U7","v":0},{"$f":"'手控書_(1-200)'!V7","v":0},0]
[{"$f":"'手控書_(1-200)'!S8","v":78},{"$f":"'手控書_(1-200)'!T8","v":0},{"$f":"'手控書_(1-200)'!U8","v":0},{"$f":"'手控書_(1-200)'!V8","v":0},0]
[{"$f":"'手控書_(1-200)'!S9","v":79},{"$f":"'手控書_(1-200)'!T9","v":0},{"$f":"'手控書_(1-200)'!U9","v":0},{"$f":"'手控書_(1-200)'!V9","v":0},0]
[{"$f":"'手控書_(1-200)'!S10","v":80},{"$f":"'手控書_(1-200)'!T10","v":0},{"$f":"'手控書_(1-200)'!U10","v":0},{"$f":"'手控書_(1-200)'!V10","v":0},0]
[{"$f":"'手控書_(1-200)'!S11","v":81},{"$f":"'手控書_(1-200)'!T11","v":0},{"$f":"'手控書_(1-200)'!U11","v":0},{"$f":"'手控書_(1-200)'!V11","v":0},0]
[{"$f":"'手控書_(1-200)'!S12","v":82},{"$f":"'手控書_(1-200)'!T12","v":0},{"$f":"'手控書_(1-200)'!U12","v":0},{"$f":"'手控書_(1-200)'!V12","v":0},0]
[{"$f":"'手控書_(1-200)'!S13","v":83},{"$f":"'手控書_(1-200)'!T13","v":0},{"$f":"'手控書_(1-200)'!U13","v":0},{"$f":"'手控書_(1-200)'!V13","v":0},0]
[{"$f":"'手控書_(1-200)'!S14","v":84},{"$f":"'手控書_(1-200)'!T14","v":0},{"$f":"'手控書_(1-200)'!U14","v":0},{"$f":"'手控書_(1-200)'!V14","v":0},0]
[{"$f":"'手控書_(1-200)'!S15","v":85},{"$f":"'手控書_(1-200)'!T15","v":0},{"$f":"'手控書_(1-200)'!U15","v":0},{"$f":"'手控書_(1-200)'!V15","v":0},0]
[{"$f":"'手控書_(1-200)'!S16","v":86},{"$f":"'手控書_(1-200)'!T16","v":0},{"$f":"'手控書_(1-200)'!U16","v":0},{"$f":"'手控書_(1-200)'!V16","v":0},0]
[{"$f":"'手控書_(1-200)'!S17","v":87},{"$f":"'手控書_(1-200)'!T17","v":0},{"$f":"'手控書_(1-200)'!U17","v":0},{"$f":"'手控書_(1-200)'!V17","v":0},0]
[{"$f":"'手控書_(1-200)'!S18","v":88},{"$f":"'手控書_(1-200)'!T18","v":0},{"$f":"'手控書_(1-200)'!U18","v":0},{"$f":"'手控書_(1-200)'!V18","v":0},0]
[{"$f":"'手控書_(1-200)'!S19","v":89},{"$f":"'手控書_(1-200)'!T19","v":0},{"$f":"'手控書_(1-200)'!U19","v":0},{"$f":"'手控書_(1-200)'!V19","v":0},0]
[{"$f":"'手控書_(1-200)'!S20","v":90},{"$f":"'手控書_(1-200)'!T20","v":0},{"$f":"'手控書_(1-200)'!U20","v":0},{"$f":"'手控書_(1-200)'!V20","v":0},0]
[{"$f":"'手控書_(1-200)'!S21","v":91},{"$f":"'手控書_(1-200)'!T21","v":0},{"$f":"'手控書_(1-200)'!U21","v":0},{"$f":"'手控書_(1-200)'!V21","v":0},0]
[{"$f":"'手控書_(1-200)'!S22","v":92},{"$f":"'手控書_(1-200)'!T22","v":0},{"$f":"'手控書_(1-200)'!U22","v":0},{"$f":"'手控書_(1-200)'!V22","v":0},0]
[{"$f":"'手控書_(1-200)'!S23","v":93},{"$f":"'手控書_(1-200)'!T23","v":0},{"$f":"'手控書_(1-200)'!U23","v":0},{"$f":"'手控書_(1-200)'!V23","v":0},0]
[{"$f":"'手控書_(1-200)'!S24","v":94},{"$f":"'手控書_(1-200)'!T24","v":0},{"$f":"'手控書_(1-200)'!U24","v":0},{"$f":"'手控書_(1-200)'!V24","v":0},0]
[{"$f":"'手控書_(1-200)'!S25","v":95},{"$f":"'手控書_(1-200)'!T25","v":0},{"$f":"'手控書_(1-200)'!U25","v":0},{"$f":"'手控書_(1-200)'!V25","v":0},0]
[{"$f":"'手控書_(1-200)'!S26","v":96},{"$f":"'手控書_(1-200)'!T26","v":0},{"$f":"'手控書_(1-200)'!U26","v":0},{"$f":"'手控書_(1-200)'!V26","v":0},0]
[{"$f":"'手控書_(1-200)'!S27","v":97},{"$f":"'手控書_(1-200)'!T27","v":0},{"$f":"'手控書_(1-200)'!U27","v":0},{"$f":"'手控書_(1-200)'!V27","v":0},0]
[{"$f":"'手控書_(1-200)'!S28","v":98},{"$f":"'手控書_(1-200)'!T28","v":0},{"$f":"'手控書_(1-200)'!U28","v":0},{"$f":"'手控書_(1-200)'!V28","v":0},0]
[{"$f":"'手控書_(1-200)'!S29","v":99},{"$f":"'手控書_(1-200)'!T29","v":0},{"$f":"'手控書_(1-200)'!U29","v":0},{"$f":"'手控書_(1-200)'!V29","v":0},0]
[{"$f":"'手控書_(1-200)'!S30","v":100},{"$f":"'手控書_(1-200)'!T30","v":0},{"$f":"'手控書_(1-200)'!U30","v":0},{"$f":"'手控書_(1-200)'!V30","v":0},0]
[{"$f":"'手控書_(1-200)'!A37","v":101},{"$f":"'手控書_(1-200)'!B37","v":0},{"$f":"'手控書_(1-200)'!C37","v":0},{"$f":"'手控書_(1-200)'!D37","v":0},0]
[{"$f":"'手控書_(1-200)'!A38","v":102},{"$f":"'手控書_(1-200)'!B38","v":0},{"$f":"'手控書_(1-200)'!C38","v":0},{"$f":"'手控書_(1-200)'!D38","v":0},0]
[{"$f":"'手控書_(1-200)'!A39","v":103},{"$f":"'手控書_(1-200)'!B39","v":0},{"$f":"'手控書_(1-200)'!C39","v":0},{"$f":"'手控書_(1-200)'!D39","v":0},0]
[{"$f":"'手控書_(1-200)'!A40","v":104},{"$f":"'手控書_(1-200)'!B40","v":0},{"$f":"'手控書_(1-200)'!C40","v":0},{"$f":"'手控書_(1-200)'!D40","v":0},0]
[{"$f":"'手控書_(1-200)'!A41","v":105},{"$f":"'手控書_(1-200)'!B41","v":0},{"$f":"'手控書_(1-200)'!C41","v":0},{"$f":"'手控書_(1-200)'!D41","v":0},0]
[{"$f":"'手控書_(1-200)'!A42","v":106},{"$f":"'手控書_(1-200)'!B42","v":0},{"$f":"'手控書_(1-200)'!C42","v":0},{"$f":"'手控書_(1-200)'!D42","v":0},0]
[{"$f":"'手控書_(1-200)'!A43","v":107},{"$f":"'手控書_(1-200)'!B43","v":0},{"$f":"'手控書_(1-200)'!C43","v":0},{"$f":"'手控書_(1-200)'!D43","v":0},0]
[{"$f":"'手控書_(1-200)'!A44","v":108},{"$f":"'手控書_(1-200)'!B44","v":0},{"$f":"'手控書_(1-200)'!C44","v":0},{"$f":"'手控書_(1-200)'!D44","v":0},0]
[{"$f":"'手控書_(1-200)'!A45","v":109},{"$f":"'手控書_(1-200)'!B45","v":0},{"$f":"'手控書_(1-200)'!C45","v":0},{"$f":"'手控書_(1-200)'!D45","v":0},0]
[{"$f":"'手控書_(1-200)'!A46","v":110},{"$f":"'手控書_(1-200)'!B46","v":0},{"$f":"'手控書_(1-200)'!C46","v":0},{"$f":"'手控書_(1-200)'!D46","v":0},0]
[{"$f":"'手控書_(1-200)'!A47","v":111},{"$f":"'手控書_(1-200)'!B47","v":0},{"$f":"'手控書_(1-200)'!C47","v":0},{"$f":"'手控書_(1-200)'!D47","v":0},0]
[{"$f":"'手控書_(1-200)'!A48","v":112},{"$f":"'手控書_(1-200)'!B48","v":0},{"$f":"'手控書_(1-200)'!C48","v":0},{"$f":"'手控書_(1-200)'!D48","v":0},0]
[{"$f":"'手控書_(1-200)'!A49","v":113},{"$f":"'手控書_(1-200)'!B49","v":0},{"$f":"'手控書_(1-200)'!C49","v":0},{"$f":"'手控書_(1-200)'!D49","v":0},0]
[{"$f":"'手控書_(1-200)'!A50","v":114},{"$f":"'手控書_(1-200)'!B50","v":0},{"$f":"'手控書_(1-200)'!C50","v":0},{"$f":"'手控書_(1-200)'!D50","v":0},0]
[{"$f":"'手控書_(1-200)'!A51","v":115},{"$f":"'手控書_(1-200)'!B51","v":0},{"$f":"'手控書_(1-200)'!C51","v":0},{"$f":"'手控書_(1-200)'!D51","v":0},0]
[{"$f":"'手控書_(1-200)'!A52","v":116},{"$f":"'手控書_(1-200)'!B52","v":0},{"$f":"'手控書_(1-200)'!C52","v":0},{"$f":"'手控書_(1-200)'!D52","v":0},0]
[{"$f":"'手控書_(1-200)'!A53","v":117},{"$f":"'手控書_(1-200)'!B53","v":0},{"$f":"'手控書_(1-200)'!C53","v":0},{"$f":"'手控書_(1-200)'!D53","v":0},0]
[{"$f":"'手控書_(1-200)'!A54","v":118},{"$f":"'手控書_(1-200)'!B54","v":0},{"$f":"'手控書_(1-200)'!C54","v":0},{"$f":"'手控書_(1-200)'!D54","v":0},0]
[{"$f":"'手控書_(1-200)'!A55","v":119},{"$f":"'手控書_(1-200)'!B55","v":0},{"$f":"'手控書_(1-200)'!C55","v":0},{"$f":"'手控書_(1-200)'!D55","v":0},0]
[{"$f":"'手控書_(1-200)'!A56","v":120},{"$f":"'手控書_(1-200)'!B56","v":0},{"$f":"'手控書_(1-200)'!C56","v":0},{"$f":"'手控書_(1-200)'!D56","v":0},0]
[{"$f":"'手控書_(1-200)'!A57","v":121},{"$f":"'手控書_(1-200)'!B57","v":0},{"$f":"'手控書_(1-200)'!C57","v":0},{"$f":"'手控書_(1-200)'!D57","v":0},0]
[{"$f":"'手控書_(1-200)'!A58","v":122},{"$f":"'手控書_(1-200)'!B58","v":0},{"$f":"'手控書_(1-200)'!C58","v":0},{"$f":"'手控書_(1-200)'!D58","v":0},0]
[{"$f":"'手控書_(1-200)'!A59","v":123},{"$f":"'手控書_(1-200)'!B59","v":0},{"$f":"'手控書_(1-200)'!C59","v":0},{"$f":"'手控書_(1-200)'!D59","v":0},0]
[{"$f":"'手控書_(1-200)'!A60","v":124},{"$f":"'手控書_(1-200)'!B60","v":0},{"$f":"'手控書_(1-200)'!C60","v":0},{"$f":"'手控書_(1-200)'!D60","v":0},0]
[{"$f":"'手控書_(1-200)'!A61","v":125},{"$f":"'手控書_(1-200)'!B61","v":0},{"$f":"'手控書_(1-200)'!C61","v":0},{"$f":"'手控書_(1-200)'!D61","v":0},0]
[{"$f":"'手控書_(1-200)'!G37","v":126},{"$f":"'手控書_(1-200)'!H37","v":0},{"$f":"'手控書_(1-200)'!I37","v":0},{"$f":"'手控書_(1-200)'!J37","v":0},0]
[{"$f":"'手控書_(1-200)'!G38","v":127},{"$f":"'手控書_(1-200)'!H38","v":0},{"$f":"'手控書_(1-200)'!I38","v":0},{"$f":"'手控書_(1-200)'!J38","v":0},0]
[{"$f":"'手控書_(1-200)'!G39","v":128},{"$f":"'手控書_(1-200)'!H39","v":0},{"$f":"'手控書_(1-200)'!I39","v":0},{"$f":"'手控書_(1-200)'!J39","v":0},0]
[{"$f":"'手控書_(1-200)'!G40","v":129},{"$f":"'手控書_(1-200)'!H40","v":0},{"$f":"'手控書_(1-200)'!I40","v":0},{"$f":"'手控書_(1-200)'!J40","v":0},0]
[{"$f":"'手控書_(1-200)'!G41","v":130},{"$f":"'手控書_(1-200)'!H41","v":0},{"$f":"'手控書_(1-200)'!I41","v":0},{"$f":"'手控書_(1-200)'!J41","v":0},{"$f":"IF(COUNTIF(B131:D131,0)=3,0,IF(COUNTIF(B131:D131,\"<> 0\")=3,0,1))","v":0}]
[{"$f":"'手控書_(1-200)'!G42","v":131},{"$f":"'手控書_(1-200)'!H42","v":0},{"$f":"'手控書_(1-200)'!I42","v":0},{"$f":"'手控書_(1-200)'!J42","v":0},0]
[{"$f":"'手控書_(1-200)'!G43","v":132},{"$f":"'手控書_(1-200)'!H43","v":0},{"$f":"'手控書_(1-200)'!I43","v":0},{"$f":"'手控書_(1-200)'!J43","v":0},0]
[{"$f":"'手控書_(1-200)'!G44","v":133},{"$f":"'手控書_(1-200)'!H44","v":0},{"$f":"'手控書_(1-200)'!I44","v":0},{"$f":"'手控書_(1-200)'!J44","v":0},0]
[{"$f":"'手控書_(1-200)'!G45","v":134},{"$f":"'手控書_(1-200)'!H45","v":0},{"$f":"'手控書_(1-200)'!I45","v":0},{"$f":"'手控書_(1-200)'!J45","v":0},0]
[{"$f":"'手控書_(1-200)'!G46","v":135},{"$f":"'手控書_(1-200)'!H46","v":0},{"$f":"'手控書_(1-200)'!I46","v":0},{"$f":"'手控書_(1-200)'!J46","v":0},0]
[{"$f":"'手控書_(1-200)'!G47","v":136},{"$f":"'手控書_(1-200)'!H47","v":0},{"$f":"'手控書_(1-200)'!I47","v":0},{"$f":"'手控書_(1-200)'!J47","v":0},0]
[{"$f":"'手控書_(1-200)'!G48","v":137},{"$f":"'手控書_(1-200)'!H48","v":0},{"$f":"'手控書_(1-200)'!I48","v":0},{"$f":"'手控書_(1-200)'!J48","v":0},0]
[{"$f":"'手控書_(1-200)'!G49","v":138},{"$f":"'手控書_(1-200)'!H49","v":0},{"$f":"'手控書_(1-200)'!I49","v":0},{"$f":"'手控書_(1-200)'!J49","v":0},0]
[{"$f":"'手控書_(1-200)'!G50","v":139},{"$f":"'手控書_(1-200)'!H50","v":0},{"$f":"'手控書_(1-200)'!I50","v":0},{"$f":"'手控書_(1-200)'!J50","v":0},0]
[{"$f":"'手控書_(1-200)'!G51","v":140},{"$f":"'手控書_(1-200)'!H51","v":0},{"$f":"'手控書_(1-200)'!I51","v":0},{"$f":"'手控書_(1-200)'!J51","v":0},0]
[{"$f":"'手控書_(1-200)'!G52","v":141},{"$f":"'手控書_(1-200)'!H52","v":0},{"$f":"'手控書_(1-200)'!I52","v":0},{"$f":"'手控書_(1-200)'!J52","v":0},0]
[{"$f":"'手控書_(1-200)'!G53","v":142},{"$f":"'手控書_(1-200)'!H53","v":0},{"$f":"'手控書_(1-200)'!I53","v":0},{"$f":"'手控書_(1-200)'!J53","v":0},0]
[{"$f":"'手控書_(1-200)'!G54","v":143},{"$f":"'手控書_(1-200)'!H54","v":0},{"$f":"'手控書_(1-200)'!I54","v":0},{"$f":"'手控書_(1-200)'!J54","v":0},0]
[{"$f":"'手控書_(1-200)'!G55","v":144},{"$f":"'手控書_(1-200)'!H55","v":0},{"$f":"'手控書_(1-200)'!I55","v":0},{"$f":"'手控書_(1-200)'!J55","v":0},0]
[{"$f":"'手控書_(1-200)'!G56","v":145},{"$f":"'手控書_(1-200)'!H56","v":0},{"$f":"'手控書_(1-200)'!I56","v":0},{"$f":"'手控書_(1-200)'!J56","v":0},0]
[{"$f":"'手控書_(1-200)'!G57","v":146},{"$f":"'手控書_(1-200)'!H57","v":0},{"$f":"'手控書_(1-200)'!I57","v":0},{"$f":"'手控書_(1-200)'!J57","v":0},0]
[{"$f":"'手控書_(1-200)'!G58","v":147},{"$f":"'手控書_(1-200)'!H58","v":0},{"$f":"'手控書_(1-200)'!I58","v":0},{"$f":"'手控書_(1-200)'!J58","v":0},0]
[{"$f":"'手控書_(1-200)'!G59","v":148},{"$f":"'手控書_(1-200)'!H59","v":0},{"$f":"'手控書_(1-200)'!I59","v":0},{"$f":"'手控書_(1-200)'!J59","v":0},0]
[{"$f":"'手控書_(1-200)'!G60","v":149},{"$f":"'手控書_(1-200)'!H60","v":0},{"$f":"'手控書_(1-200)'!I60","v":0},{"$f":"'手控書_(1-200)'!J60","v":0},0]
[{"$f":"'手控書_(1-200)'!G61","v":150},{"$f":"'手控書_(1-200)'!H61","v":0},{"$f":"'手控書_(1-200)'!I61","v":0},{"$f":"'手控書_(1-200)'!J61","v":0},0]
[{"$f":"'手控書_(1-200)'!M37","v":151},{"$f":"'手控書_(1-200)'!N37","v":0},{"$f":"'手控書_(1-200)'!O37","v":0},{"$f":"'手控書_(1-200)'!P37","v":0},0]
[{"$f":"'手控書_(1-200)'!M38","v":152},{"$f":"'手控書_(1-200)'!N38","v":0},{"$f":"'手控書_(1-200)'!O38","v":0},{"$f":"'手控書_(1-200)'!P38","v":0},0]
[{"$f":"'手控書_(1-200)'!M39","v":153},{"$f":"'手控書_(1-200)'!N39","v":0},{"$f":"'手控書_(1-200)'!O39","v":0},{"$f":"'手控書_(1-200)'!P39","v":0},0]
[{"$f":"'手控書_(1-200)'!M40","v":154},{"$f":"'手控書_(1-200)'!N40","v":0},{"$f":"'手控書_(1-200)'!O40","v":0},{"$f":"'手控書_(1-200)'!P40","v":0},0]
[{"$f":"'手控書_(1-200)'!M41","v":155},{"$f":"'手控書_(1-200)'!N41","v":0},{"$f":"'手控書_(1-200)'!O41","v":0},{"$f":"'手控書_(1-200)'!P41","v":0},0]
[{"$f":"'手控書_(1-200)'!M42","v":156},{"$f":"'手控書_(1-200)'!N42","v":0},{"$f":"'手控書_(1-200)'!O42","v":0},{"$f":"'手控書_(1-200)'!P42","v":0},0]
[{"$f":"'手控書_(1-200)'!M43","v":157},{"$f":"'手控書_(1-200)'!N43","v":0},{"$f":"'手控書_(1-200)'!O43","v":0},{"$f":"'手控書_(1-200)'!P43","v":0},0]
[{"$f":"'手控書_(1-200)'!M44","v":158},{"$f":"'手控書_(1-200)'!N44","v":0},{"$f":"'手控書_(1-200)'!O44","v":0},{"$f":"'手控書_(1-200)'!P44","v":0},0]
[{"$f":"'手控書_(1-200)'!M45","v":159},{"$f":"'手控書_(1-200)'!N45","v":0},{"$f":"'手控書_(1-200)'!O45","v":0},{"$f":"'手控書_(1-200)'!P45","v":0},0]
[{"$f":"'手控書_(1-200)'!M46","v":160},{"$f":"'手控書_(1-200)'!N46","v":0},{"$f":"'手控書_(1-200)'!O46","v":0},{"$f":"'手控書_(1-200)'!P46","v":0},0]
[{"$f":"'手控書_(1-200)'!M47","v":161},{"$f":"'手控書_(1-200)'!N47","v":0},{"$f":"'手控書_(1-200)'!O47","v":0},{"$f":"'手控書_(1-200)'!P47","v":0},0]
[{"$f":"'手控書_(1-200)'!M48","v":162},{"$f":"'手控書_(1-200)'!N48","v":0},{"$f":"'手控書_(1-200)'!O48","v":0},{"$f":"'手控書_(1-200)'!P48","v":0},0]
[{"$f":"'手控書_(1-200)'!M49","v":163},{"$f":"'手控書_(1-200)'!N49","v":0},{"$f":"'手控書_(1-200)'!O49","v":0},{"$f":"'手控書_(1-200)'!P49","v":0},0]
[{"$f":"'手控書_(1-200)'!M50","v":164},{"$f":"'手控書_(1-200)'!N50","v":0},{"$f":"'手控書_(1-200)'!O50","v":0},{"$f":"'手控書_(1-200)'!P50","v":0},0]
[{"$f":"'手控書_(1-200)'!M51","v":165},{"$f":"'手控書_(1-200)'!N51","v":0},{"$f":"'手控書_(1-200)'!O51","v":0},{"$f":"'手控書_(1-200)'!P51","v":0},0]
[{"$f":"'手控書_(1-200)'!M52","v":166},{"$f":"'手控書_(1-200)'!N52","v":0},{"$f":"'手控書_(1-200)'!O52","v":0},{"$f":"'手控書_(1-200)'!P52","v":0},0]
[{"$f":"'手控書_(1-200)'!M53","v":167},{"$f":"'手控書_(1-200)'!N53","v":0},{"$f":"'手控書_(1-200)'!O53","v":0},{"$f":"'手控書_(1-200)'!P53","v":0},0]
[{"$f":"'手控書_(1-200)'!M54","v":168},{"$f":"'手控書_(1-200)'!N54","v":0},{"$f":"'手控書_(1-200)'!O54","v":0},{"$f":"'手控書_(1-200)'!P54","v":0},0]
[{"$f":"'手控書_(1-200)'!M55","v":169},{"$f":"'手控書_(1-200)'!N55","v":0},{"$f":"'手控書_(1-200)'!O55","v":0},{"$f":"'手控書_(1-200)'!P55","v":0},0]
[{"$f":"'手控書_(1-200)'!M56","v":170},{"$f":"'手控書_(1-200)'!N56","v":0},{"$f":"'手控書_(1-200)'!O56","v":0},{"$f":"'手控書_(1-200)'!P56","v":0},0]
[{"$f":"'手控書_(1-200)'!M57","v":171},{"$f":"'手控書_(1-200)'!N57","v":0},{"$f":"'手控書_(1-200)'!O57","v":0},{"$f":"'手控書_(1-200)'!P57","v":0},0]
[{"$f":"'手控書_(1-200)'!M58","v":172},{"$f":"'手控書_(1-200)'!N58","v":0},{"$f":"'手控書_(1-200)'!O58","v":0},{"$f":"'手控書_(1-200)'!P58","v":0},0]
[{"$f":"'手控書_(1-200)'!M59","v":173},{"$f":"'手控書_(1-200)'!N59","v":0},{"$f":"'手控書_(1-200)'!O59","v":0},{"$f":"'手控書_(1-200)'!P59","v":0},0]
[{"$f":"'手控書_(1-200)'!M60","v":174},{"$f":"'手控書_(1-200)'!N60","v":0},{"$f":"'手控書_(1-200)'!O60","v":0},{"$f":"'手控書_(1-200)'!P60","v":0},0]
[{"$f":"'手控書_(1-200)'!M61","v":175},{"$f":"'手控書_(1-200)'!N61","v":0},{"$f":"'手控書_(1-200)'!O61","v":0},{"$f":"'手控書_(1-200)'!P61","v":0},0]
[{"$f":"'手控書_(1-200)'!S37","v":176},{"$f":"'手控書_(1-200)'!T37","v":0},{"$f":"'手控書_(1-200)'!U37","v":0},{"$f":"'手控書_(1-200)'!V37","v":0},0]
[{"$f":"'手控書_(1-200)'!S38","v":177},{"$f":"'手控書_(1-200)'!T38","v":0},{"$f":"'手控書_(1-200)'!U38","v":0},{"$f":"'手控書_(1-200)'!V38","v":0},0]
[{"$f":"'手控書_(1-200)'!S39","v":178},{"$f":"'手控書_(1-200)'!T39","v":0},{"$f":"'手控書_(1-200)'!U39","v":0},{"$f":"'手控書_(1-200)'!V39","v":0},0]
[{"$f":"'手控書_(1-200)'!S40","v":179},{"$f":"'手控書_(1-200)'!T40","v":0},{"$f":"'手控書_(1-200)'!U40","v":0},{"$f":"'手控書_(1-200)'!V40","v":0},0]
[{"$f":"'手控書_(1-200)'!S41","v":180},{"$f":"'手控書_(1-200)'!T41","v":0},{"$f":"'手控書_(1-200)'!U41","v":0},{"$f":"'手控書_(1-200)'!V41","v":0},0]
[{"$f":"'手控書_(1-200)'!S42","v":181},{"$f":"'手控書_(1-200)'!T42","v":0},{"$f":"'手控書_(1-200)'!U42","v":0},{"$f":"'手控書_(1-200)'!V42","v":0},0]
[{"$f":"'手控書_(1-200)'!S43","v":182},{"$f":"'手控書_(1-200)'!T43","v":0},{"$f":"'手控書_(1-200)'!U43","v":0},{"$f":"'手控書_(1-200)'!V43","v":0},0]
[{"$f":"'手控書_(1-200)'!S44","v":183},{"$f":"'手控書_(1-200)'!T44","v":0},{"$f":"'手控書_(1-200)'!U44","v":0},{"$f":"'手控書_(1-200)'!V44","v":0},0]
[{"$f":"'手控書_(1-200)'!S45","v":184},{"$f":"'手控書_(1-200)'!T45","v":0},{"$f":"'手控書_(1-200)'!U45","v":0},{"$f":"'手控書_(1-200)'!V45","v":0},0]
[{"$f":"'手控書_(1-200)'!S46","v":185},{"$f":"'手控書_(1-200)'!T46","v":0},{"$f":"'手控書_(1-200)'!U46","v":0},{"$f":"'手控書_(1-200)'!V46","v":0},0]
[{"$f":"'手控書_(1-200)'!S47","v":186},{"$f":"'手控書_(1-200)'!T47","v":0},{"$f":"'手控書_(1-200)'!U47","v":0},{"$f":"'手控書_(1-200)'!V47","v":0},0]
[{"$f":"'手控書_(1-200)'!S48","v":187},{"$f":"'手控書_(1-200)'!T48","v":0},{"$f":"'手控書_(1-200)'!U48","v":0},{"$f":"'手控書_(1-200)'!V48","v":0},0]
[{"$f":"'手控書_(1-200)'!S49","v":188},{"$f":"'手控書_(1-200)'!T49","v":0},{"$f":"'手控書_(1-200)'!U49","v":0},{"$f":"'手控書_(1-200)'!V49","v":0},0]
[{"$f":"'手控書_(1-200)'!S50","v":189},{"$f":"'手控書_(1-200)'!T50","v":0},{"$f":"'手控書_(1-200)'!U50","v":0},{"$f":"'手控書_(1-200)'!V50","v":0},0]
[{"$f":"'手控書_(1-200)'!S51","v":190},{"$f":"'手控書_(1-200)'!T51","v":0},{"$f":"'手控書_(1-200)'!U51","v":0},{"$f":"'手控書_(1-200)'!V51","v":0},0]
[{"$f":"'手控書_(1-200)'!S52","v":191},{"$f":"'手控書_(1-200)'!T52","v":0},{"$f":"'手控書_(1-200)'!U52","v":0},{"$f":"'手控書_(1-200)'!V52","v":0},0]
[{"$f":"'手控書_(1-200)'!S53","v":192},{"$f":"'手控書_(1-200)'!T53","v":0},{"$f":"'手控書_(1-200)'!U53","v":0},{"$f":"'手控書_(1-200)'!V53","v":0},0]
[{"$f":"'手控書_(1-200)'!S54","v":193},{"$f":"'手控書_(1-200)'!T54","v":0},{"$f":"'手控書_(1-200)'!U54","v":0},{"$f":"'手控書_(1-200)'!V54","v":0},0]
[{"$f":"'手控書_(1-200)'!S55","v":194},{"$f":"'手控書_(1-200)'!T55","v":0},{"$f":"'手控書_(1-200)'!U55","v":0},{"$f":"'手控書_(1-200)'!V55","v":0},{"$f":"IF(COUNTIF(B195:D195,0)=3,0,IF(COUNTIF(B195:D195,\"<> 0\")=3,0,1))","v":0}]
[{"$f":"'手控書_(1-200)'!S56","v":195},{"$f":"'手控書_(1-200)'!T56","v":0},{"$f":"'手控書_(1-200)'!U56","v":0},{"$f":"'手控書_(1-200)'!V56","v":0},0]
[{"$f":"'手控書_(1-200)'!S57","v":196},{"$f":"'手控書_(1-200)'!T57","v":0},{"$f":"'手控書_(1-200)'!U57","v":0},{"$f":"'手控書_(1-200)'!V57","v":0},0]
[{"$f":"'手控書_(1-200)'!S58","v":197},{"$f":"'手控書_(1-200)'!T58","v":0},{"$f":"'手控書_(1-200)'!U58","v":0},{"$f":"'手控書_(1-200)'!V58","v":0},0]
[{"$f":"'手控書_(1-200)'!S59","v":198},{"$f":"'手控書_(1-200)'!T59","v":0},{"$f":"'手控書_(1-200)'!U59","v":0},{"$f":"'手控書_(1-200)'!V59","v":0},0]
[{"$f":"'手控書_(1-200)'!S60","v":199},{"$f":"'手控書_(1-200)'!T60","v":0},{"$f":"'手控書_(1-200)'!U60","v":0},{"$f":"'手控書_(1-200)'!V60","v":0},0]
[{"$f":"'手控書_(1-200)'!S61","v":200},{"$f":"'手控書_(1-200)'!T61","v":0},{"$f":"'手控書_(1-200)'!U61","v":0},{"$f":"'手控書_(1-200)'!V61","v":0},0]
[{"$f":"'手控書_(201-)'!A6","v":201},{"$f":"'手控書_(201-)'!B6","v":0},{"$f":"'手控書_(201-)'!C6","v":0},{"$f":"'手控書_(201-)'!D6","v":0},0]
[{"$f":"'手控書_(201-)'!A7","v":202},{"$f":"'手控書_(201-)'!B7","v":0},{"$f":"'手控書_(201-)'!C7","v":0},{"$f":"'手控書_(201-)'!D7","v":0},0]
[{"$f":"'手控書_(201-)'!A8","v":203},{"$f":"'手控書_(201-)'!B8","v":0},{"$f":"'手控書_(201-)'!C8","v":0},{"$f":"'手控書_(201-)'!D8","v":0},0]
[{"$f":"'手控書_(201-)'!A9","v":204},{"$f":"'手控書_(201-)'!B9","v":0},{"$f":"'手控書_(201-)'!C9","v":0},{"$f":"'手控書_(201-)'!D9","v":0},0]
[{"$f":"'手控書_(201-)'!A10","v":205},{"$f":"'手控書_(201-)'!B10","v":0},{"$f":"'手控書_(201-)'!C10","v":0},{"$f":"'手控書_(201-)'!D10","v":0},0]
[{"$f":"'手控書_(201-)'!A11","v":206},{"$f":"'手控書_(201-)'!B11","v":0},{"$f":"'手控書_(201-)'!C11","v":0},{"$f":"'手控書_(201-)'!D11","v":0},0]
[{"$f":"'手控書_(201-)'!A12","v":207},{"$f":"'手控書_(201-)'!B12","v":0},{"$f":"'手控書_(201-)'!C12","v":0},{"$f":"'手控書_(201-)'!D12","v":0},0]
[{"$f":"'手控書_(201-)'!A13","v":208},{"$f":"'手控書_(201-)'!B13","v":0},{"$f":"'手控書_(201-)'!C13","v":0},{"$f":"'手控書_(201-)'!D13","v":0},0]
[{"$f":"'手控書_(201-)'!A14","v":209},{"$f":"'手控書_(201-)'!B14","v":0},{"$f":"'手控書_(201-)'!C14","v":0},{"$f":"'手控書_(201-)'!D14","v":0},0]
[{"$f":"'手控書_(201-)'!A15","v":210},{"$f":"'手控書_(201-)'!B15","v":0},{"$f":"'手控書_(201-)'!C15","v":0},{"$f":"'手控書_(201-)'!D15","v":0},0]
[{"$f":"'手控書_(201-)'!A16","v":211},{"$f":"'手控書_(201-)'!B16","v":0},{"$f":"'手控書_(201-)'!C16","v":0},{"$f":"'手控書_(201-)'!D16","v":0},0]
[{"$f":"'手控書_(201-)'!A17","v":212},{"$f":"'手控書_(201-)'!B17","v":0},{"$f":"'手控書_(201-)'!C17","v":0},{"$f":"'手控書_(201-)'!D17","v":0},0]
[{"$f":"'手控書_(201-)'!A18","v":213},{"$f":"'手控書_(201-)'!B18","v":0},{"$f":"'手控書_(201-)'!C18","v":0},{"$f":"'手控書_(201-)'!D18","v":0},0]
[{"$f":"'手控書_(201-)'!A19","v":214},{"$f":"'手控書_(201-)'!B19","v":0},{"$f":"'手控書_(201-)'!C19","v":0},{"$f":"'手控書_(201-)'!D19","v":0},0]
[{"$f":"'手控書_(201-)'!A20","v":215},{"$f":"'手控書_(201-)'!B20","v":0},{"$f":"'手控書_(201-)'!C20","v":0},{"$f":"'手控書_(201-)'!D20","v":0},0]
[{"$f":"'手控書_(201-)'!A21","v":216},{"$f":"'手控書_(201-)'!B21","v":0},{"$f":"'手控書_(201-)'!C21","v":0},{"$f":"'手控書_(201-)'!D21","v":0},0]
[{"$f":"'手控書_(201-)'!A22","v":217},{"$f":"'手控書_(201-)'!B22","v":0},{"$f":"'手控書_(201-)'!C22","v":0},{"$f":"'手控書_(201-)'!D22","v":0},0]
[{"$f":"'手控書_(201-)'!A23","v":218},{"$f":"'手控書_(201-)'!B23","v":0},{"$f":"'手控書_(201-)'!C23","v":0},{"$f":"'手控書_(201-)'!D23","v":0},0]
[{"$f":"'手控書_(201-)'!A24","v":219},{"$f":"'手控書_(201-)'!B24","v":0},{"$f":"'手控書_(201-)'!C24","v":0},{"$f":"'手控書_(201-)'!D24","v":0},0]
[{"$f":"'手控書_(201-)'!A25","v":220},{"$f":"'手控書_(201-)'!B25","v":0},{"$f":"'手控書_(201-)'!C25","v":0},{"$f":"'手控書_(201-)'!D25","v":0},0]
[{"$f":"'手控書_(201-)'!A26","v":221},{"$f":"'手控書_(201-)'!B26","v":0},{"$f":"'手控書_(201-)'!C26","v":0},{"$f":"'手控書_(201-)'!D26","v":0},0]
[{"$f":"'手控書_(201-)'!A27","v":222},{"$f":"'手控書_(201-)'!B27","v":0},{"$f":"'手控書_(201-)'!C27","v":0},{"$f":"'手控書_(201-)'!D27","v":0},0]
[{"$f":"'手控書_(201-)'!A28","v":223},{"$f":"'手控書_(201-)'!B28","v":0},{"$f":"'手控書_(201-)'!C28","v":0},{"$f":"'手控書_(201-)'!D28","v":0},0]
[{"$f":"'手控書_(201-)'!A29","v":224},{"$f":"'手控書_(201-)'!B29","v":0},{"$f":"'手控書_(201-)'!C29","v":0},{"$f":"'手控書_(201-)'!D29","v":0},0]
[{"$f":"'手控書_(201-)'!A30","v":225},{"$f":"'手控書_(201-)'!B30","v":0},{"$f":"'手控書_(201-)'!C30","v":0},{"$f":"'手控書_(201-)'!D30","v":0},0]
[{"$f":"'手控書_(201-)'!G6","v":226},{"$f":"'手控書_(201-)'!H6","v":0},{"$f":"'手控書_(201-)'!I6","v":0},{"$f":"'手控書_(201-)'!J6","v":0},0]
[{"$f":"'手控書_(201-)'!G7","v":227},{"$f":"'手控書_(201-)'!H7","v":0},{"$f":"'手控書_(201-)'!I7","v":0},{"$f":"'手控書_(201-)'!J7","v":0},0]
[{"$f":"'手控書_(201-)'!G8","v":228},{"$f":"'手控書_(201-)'!H8","v":0},{"$f":"'手控書_(201-)'!I8","v":0},{"$f":"'手控書_(201-)'!J8","v":0},0]
[{"$f":"'手控書_(201-)'!G9","v":229},{"$f":"'手控書_(201-)'!H9","v":0},{"$f":"'手控書_(201-)'!I9","v":0},{"$f":"'手控書_(201-)'!J9","v":0},0]
[{"$f":"'手控書_(201-)'!G10","v":230},{"$f":"'手控書_(201-)'!H10","v":0},{"$f":"'手控書_(201-)'!I10","v":0},{"$f":"'手控書_(201-)'!J10","v":0},0]
[{"$f":"'手控書_(201-)'!G11","v":231},{"$f":"'手控書_(201-)'!H11","v":0},{"$f":"'手控書_(201-)'!I11","v":0},{"$f":"'手控書_(201-)'!J11","v":0},0]
[{"$f":"'手控書_(201-)'!G12","v":232},{"$f":"'手控書_(201-)'!H12","v":0},{"$f":"'手控書_(201-)'!I12","v":0},{"$f":"'手控書_(201-)'!J12","v":0},0]
[{"$f":"'手控書_(201-)'!G13","v":233},{"$f":"'手控書_(201-)'!H13","v":0},{"$f":"'手控書_(201-)'!I13","v":0},{"$f":"'手控書_(201-)'!J13","v":0},0]
[{"$f":"'手控書_(201-)'!G14","v":234},{"$f":"'手控書_(201-)'!H14","v":0},{"$f":"'手控書_(201-)'!I14","v":0},{"$f":"'手控書_(201-)'!J14","v":0},0]
[{"$f":"'手控書_(201-)'!G15","v":235},{"$f":"'手控書_(201-)'!H15","v":0},{"$f":"'手控書_(201-)'!I15","v":0},{"$f":"'手控書_(201-)'!J15","v":0},0]
[{"$f":"'手控書_(201-)'!G16","v":236},{"$f":"'手控書_(201-)'!H16","v":0},{"$f":"'手控書_(201-)'!I16","v":0},{"$f":"'手控書_(201-)'!J16","v":0},0]
[{"$f":"'手控書_(201-)'!G17","v":237},{"$f":"'手控書_(201-)'!H17","v":0},{"$f":"'手控書_(201-)'!I17","v":0},{"$f":"'手控書_(201-)'!J17","v":0},0]
[{"$f":"'手控書_(201-)'!G18","v":238},{"$f":"'手控書_(201-)'!H18","v":0},{"$f":"'手控書_(201-)'!I18","v":0},{"$f":"'手控書_(201-)'!J18","v":0},0]
[{"$f":"'手控書_(201-)'!G19","v":239},{"$f":"'手控書_(201-)'!H19","v":0},{"$f":"'手控書_(201-)'!I19","v":0},{"$f":"'手控書_(201-)'!J19","v":0},0]
[{"$f":"'手控書_(201-)'!G20","v":240},{"$f":"'手控書_(201-)'!H20","v":0},{"$f":"'手控書_(201-)'!I20","v":0},{"$f":"'手控書_(201-)'!J20","v":0},0]
[{"$f":"'手控書_(201-)'!G21","v":241},{"$f":"'手控書_(201-)'!H21","v":0},{"$f":"'手控書_(201-)'!I21","v":0},{"$f":"'手控書_(201-)'!J21","v":0},0]
[{"$f":"'手控書_(201-)'!G22","v":242},{"$f":"'手控書_(201-)'!H22","v":0},{"$f":"'手控書_(201-)'!I22","v":0},{"$f":"'手控書_(201-)'!J22","v":0},0]
[{"$f":"'手控書_(201-)'!G23","v":243},{"$f":"'手控書_(201-)'!H23","v":0},{"$f":"'手控書_(201-)'!I23","v":0},{"$f":"'手控書_(201-)'!J23","v":0},0]
[{"$f":"'手控書_(201-)'!G24","v":244},{"$f":"'手控書_(201-)'!H24","v":0},{"$f":"'手控書_(201-)'!I24","v":0},{"$f":"'手控書_(201-)'!J24","v":0},0]
[{"$f":"'手控書_(201-)'!G25","v":245},{"$f":"'手控書_(201-)'!H25","v":0},{"$f":"'手控書_(201-)'!I25","v":0},{"$f":"'手控書_(201-)'!J25","v":0},0]
[{"$f":"'手控書_(201-)'!G26","v":246},{"$f":"'手控書_(201-)'!H26","v":0},{"$f":"'手控書_(201-)'!I26","v":0},{"$f":"'手控書_(201-)'!J26","v":0},0]
[{"$f":"'手控書_(201-)'!G27","v":247},{"$f":"'手控書_(201-)'!H27","v":0},{"$f":"'手控書_(201-)'!I27","v":0},{"$f":"'手控書_(201-)'!J27","v":0},0]
[{"$f":"'手控書_(201-)'!G28","v":248},{"$f":"'手控書_(201-)'!H28","v":0},{"$f":"'手控書_(201-)'!I28","v":0},{"$f":"'手控書_(201-)'!J28","v":0},0]
[{"$f":"'手控書_(201-)'!G29","v":249},{"$f":"'手控書_(201-)'!H29","v":0},{"$f":"'手控書_(201-)'!I29","v":0},{"$f":"'手控書_(201-)'!J29","v":0},0]
[{"$f":"'手控書_(201-)'!G30","v":250},{"$f":"'手控書_(201-)'!H30","v":0},{"$f":"'手控書_(201-)'!I30","v":0},{"$f":"'手控書_(201-)'!J30","v":0},0]
[{"$f":"'手控書_(201-)'!M6","v":251},{"$f":"'手控書_(201-)'!N6","v":0},{"$f":"'手控書_(201-)'!O6","v":0},{"$f":"'手控書_(201-)'!P6","v":0},0]
[{"$f":"'手控書_(201-)'!M7","v":252},{"$f":"'手控書_(201-)'!N7","v":0},{"$f":"'手控書_(201-)'!O7","v":0},{"$f":"'手控書_(201-)'!P7","v":0},0]
[{"$f":"'手控書_(201-)'!M8","v":253},{"$f":"'手控書_(201-)'!N8","v":0},{"$f":"'手控書_(201-)'!O8","v":0},{"$f":"'手控書_(201-)'!P8","v":0},0]
[{"$f":"'手控書_(201-)'!M9","v":254},{"$f":"'手控書_(201-)'!N9","v":0},{"$f":"'手控書_(201-)'!O9","v":0},{"$f":"'手控書_(201-)'!P9","v":0},0]
[{"$f":"'手控書_(201-)'!M10","v":255},{"$f":"'手控書_(201-)'!N10","v":0},{"$f":"'手控書_(201-)'!O10","v":0},{"$f":"'手控書_(201-)'!P10","v":0},0]
[{"$f":"'手控書_(201-)'!M11","v":256},{"$f":"'手控書_(201-)'!N11","v":0},{"$f":"'手控書_(201-)'!O11","v":0},{"$f":"'手控書_(201-)'!P11","v":0},0]
[{"$f":"'手控書_(201-)'!M12","v":257},{"$f":"'手控書_(201-)'!N12","v":0},{"$f":"'手控書_(201-)'!O12","v":0},{"$f":"'手控書_(201-)'!P12","v":0},0]
[{"$f":"'手控書_(201-)'!M13","v":258},{"$f":"'手控書_(201-)'!N13","v":0},{"$f":"'手控書_(201-)'!O13","v":0},{"$f":"'手控書_(201-)'!P13","v":0},{"$f":"IF(COUNTIF(B259:D259,0)=3,0,IF(COUNTIF(B259:D259,\"<> 0\")=3,0,1))","v":0}]
[{"$f":"'手控書_(201-)'!M14","v":259},{"$f":"'手控書_(201-)'!N14","v":0},{"$f":"'手控書_(201-)'!O14","v":0},{"$f":"'手控書_(201-)'!P14","v":0},0]
[{"$f":"'手控書_(201-)'!M15","v":260},{"$f":"'手控書_(201-)'!N15","v":0},{"$f":"'手控書_(201-)'!O15","v":0},{"$f":"'手控書_(201-)'!P15","v":0},0]
[{"$f":"'手控書_(201-)'!M16","v":261},{"$f":"'手控書_(201-)'!N16","v":0},{"$f":"'手控書_(201-)'!O16","v":0},{"$f":"'手控書_(201-)'!P16","v":0},0]
[{"$f":"'手控書_(201-)'!M17","v":262},{"$f":"'手控書_(201-)'!N17","v":0},{"$f":"'手控書_(201-)'!O17","v":0},{"$f":"'手控書_(201-)'!P17","v":0},0]
[{"$f":"'手控書_(201-)'!M18","v":263},{"$f":"'手控書_(201-)'!N18","v":0},{"$f":"'手控書_(201-)'!O18","v":0},{"$f":"'手控書_(201-)'!P18","v":0},0]
[{"$f":"'手控書_(201-)'!M19","v":264},{"$f":"'手控書_(201-)'!N19","v":0},{"$f":"'手控書_(201-)'!O19","v":0},{"$f":"'手控書_(201-)'!P19","v":0},0]
[{"$f":"'手控書_(201-)'!M20","v":265},{"$f":"'手控書_(201-)'!N20","v":0},{"$f":"'手控書_(201-)'!O20","v":0},{"$f":"'手控書_(201-)'!P20","v":0},0]
[{"$f":"'手控書_(201-)'!M21","v":266},{"$f":"'手控書_(201-)'!N21","v":0},{"$f":"'手控書_(201-)'!O21","v":0},{"$f":"'手控書_(201-)'!P21","v":0},0]
[{"$f":"'手控書_(201-)'!M22","v":267},{"$f":"'手控書_(201-)'!N22","v":0},{"$f":"'手控書_(201-)'!O22","v":0},{"$f":"'手控書_(201-)'!P22","v":0},0]
[{"$f":"'手控書_(201-)'!M23","v":268},{"$f":"'手控書_(201-)'!N23","v":0},{"$f":"'手控書_(201-)'!O23","v":0},{"$f":"'手控書_(201-)'!P23","v":0},0]
[{"$f":"'手控書_(201-)'!M24","v":269},{"$f":"'手控書_(201-)'!N24","v":0},{"$f":"'手控書_(201-)'!O24","v":0},{"$f":"'手控書_(201-)'!P24","v":0},0]
[{"$f":"'手控書_(201-)'!M25","v":270},{"$f":"'手控書_(201-)'!N25","v":0},{"$f":"'手控書_(201-)'!O25","v":0},{"$f":"'手控書_(201-)'!P25","v":0},0]
[{"$f":"'手控書_(201-)'!M26","v":271},{"$f":"'手控書_(201-)'!N26","v":0},{"$f":"'手控書_(201-)'!O26","v":0},{"$f":"'手控書_(201-)'!P26","v":0},0]
[{"$f":"'手控書_(201-)'!M27","v":272},{"$f":"'手控書_(201-)'!N27","v":0},{"$f":"'手控書_(201-)'!O27","v":0},{"$f":"'手控書_(201-)'!P27","v":0},0]
[{"$f":"'手控書_(201-)'!M28","v":273},{"$f":"'手控書_(201-)'!N28","v":0},{"$f":"'手控書_(201-)'!O28","v":0},{"$f":"'手控書_(201-)'!P28","v":0},0]
[{"$f":"'手控書_(201-)'!M29","v":274},{"$f":"'手控書_(201-)'!N29","v":0},{"$f":"'手控書_(201-)'!O29","v":0},{"$f":"'手控書_(201-)'!P29","v":0},0]
[{"$f":"'手控書_(201-)'!M30","v":275},{"$f":"'手控書_(201-)'!N30","v":0},{"$f":"'手控書_(201-)'!O30","v":0},{"$f":"'手控書_(201-)'!P30","v":0},0]
[{"$f":"'手控書_(201-)'!S6","v":276},{"$f":"'手控書_(201-)'!T6","v":0},{"$f":"'手控書_(201-)'!U6","v":0},{"$f":"'手控書_(201-)'!V6","v":0},0]
[{"$f":"'手控書_(201-)'!S7","v":277},{"$f":"'手控書_(201-)'!T7","v":0},{"$f":"'手控書_(201-)'!U7","v":0},{"$f":"'手控書_(201-)'!V7","v":0},0]
[{"$f":"'手控書_(201-)'!S8","v":278},{"$f":"'手控書_(201-)'!T8","v":0},{"$f":"'手控書_(201-)'!U8","v":0},{"$f":"'手控書_(201-)'!V8","v":0},0]
[{"$f":"'手控書_(201-)'!S9","v":279},{"$f":"'手控書_(201-)'!T9","v":0},{"$f":"'手控書_(201-)'!U9","v":0},{"$f":"'手控書_(201-)'!V9","v":0},0]
[{"$f":"'手控書_(201-)'!S10","v":280},{"$f":"'手控書_(201-)'!T10","v":0},{"$f":"'手控書_(201-)'!U10","v":0},{"$f":"'手控書_(201-)'!V10","v":0},0]
[{"$f":"'手控書_(201-)'!S11","v":281},{"$f":"'手控書_(201-)'!T11","v":0},{"$f":"'手控書_(201-)'!U11","v":0},{"$f":"'手控書_(201-)'!V11","v":0},0]
[{"$f":"'手控書_(201-)'!S12","v":282},{"$f":"'手控書_(201-)'!T12","v":0},{"$f":"'手控書_(201-)'!U12","v":0},{"$f":"'手控書_(201-)'!V12","v":0},0]
[{"$f":"'手控書_(201-)'!S13","v":283},{"$f":"'手控書_(201-)'!T13","v":0},{"$f":"'手控書_(201-)'!U13","v":0},{"$f":"'手控書_(201-)'!V13","v":0},0]
[{"$f":"'手控書_(201-)'!S14","v":284},{"$f":"'手控書_(201-)'!T14","v":0},{"$f":"'手控書_(201-)'!U14","v":0},{"$f":"'手控書_(201-)'!V14","v":0},0]
[{"$f":"'手控書_(201-)'!S15","v":285},{"$f":"'手控書_(201-)'!T15","v":0},{"$f":"'手控書_(201-)'!U15","v":0},{"$f":"'手控書_(201-)'!V15","v":0},0]
[{"$f":"'手控書_(201-)'!S16","v":286},{"$f":"'手控書_(201-)'!T16","v":0},{"$f":"'手控書_(201-)'!U16","v":0},{"$f":"'手控書_(201-)'!V16","v":0},0]
[{"$f":"'手控書_(201-)'!S17","v":287},{"$f":"'手控書_(201-)'!T17","v":0},{"$f":"'手控書_(201-)'!U17","v":0},{"$f":"'手控書_(201-)'!V17","v":0},0]
[{"$f":"'手控書_(201-)'!S18","v":288},{"$f":"'手控書_(201-)'!T18","v":0},{"$f":"'手控書_(201-)'!U18","v":0},{"$f":"'手控書_(201-)'!V18","v":0},0]
[{"$f":"'手控書_(201-)'!S19","v":289},{"$f":"'手控書_(201-)'!T19","v":0},{"$f":"'手控書_(201-)'!U19","v":0},{"$f":"'手控書_(201-)'!V19","v":0},0]
[{"$f":"'手控書_(201-)'!S20","v":290},{"$f":"'手控書_(201-)'!T20","v":0},{"$f":"'手控書_(201-)'!U20","v":0},{"$f":"'手控書_(201-)'!V20","v":0},0]
[{"$f":"'手控書_(201-)'!S21","v":291},{"$f":"'手控書_(201-)'!T21","v":0},{"$f":"'手控書_(201-)'!U21","v":0},{"$f":"'手控書_(201-)'!V21","v":0},0]
[{"$f":"'手控書_(201-)'!S22","v":292},{"$f":"'手控書_(201-)'!T22","v":0},{"$f":"'手控書_(201-)'!U22","v":0},{"$f":"'手控書_(201-)'!V22","v":0},0]
[{"$f":"'手控書_(201-)'!S23","v":293},{"$f":"'手控書_(201-)'!T23","v":0},{"$f":"'手控書_(201-)'!U23","v":0},{"$f":"'手控書_(201-)'!V23","v":0},0]
[{"$f":"'手控書_(201-)'!S24","v":294},{"$f":"'手控書_(201-)'!T24","v":0},{"$f":"'手控書_(201-)'!U24","v":0},{"$f":"'手控書_(201-)'!V24","v":0},0]
[{"$f":"'手控書_(201-)'!S25","v":295},{"$f":"'手控書_(201-)'!T25","v":0},{"$f":"'手控書_(201-)'!U25","v":0},{"$f":"'手控書_(201-)'!V25","v":0},0]
[{"$f":"'手控書_(201-)'!S26","v":296},{"$f":"'手控書_(201-)'!T26","v":0},{"$f":"'手控書_(201-)'!U26","v":0},{"$f":"'手控書_(201-)'!V26","v":0},0]
[{"$f":"'手控書_(201-)'!S27","v":297},{"$f":"'手控書_(201-)'!T27","v":0},{"$f":"'手控書_(201-)'!U27","v":0},{"$f":"'手控書_(201-)'!V27","v":0},0]
[{"$f":"'手控書_(201-)'!S28","v":298},{"$f":"'手控書_(201-)'!T28","v":0},{"$f":"'手控書_(201-)'!U28","v":0},{"$f":"'手控書_(201-)'!V28","v":0},0]
[{"$f":"'手控書_(201-)'!S29","v":299},{"$f":"'手控書_(201-)'!T29","v":0},{"$f":"'手控書_(201-)'!U29","v":0},{"$f":"'手控書_(201-)'!V29","v":0},0]
[{"$f":"'手控書_(201-)'!S30","v":300},{"$f":"'手控書_(201-)'!T30","v":0},{"$f":"'手控書_(201-)'!U30","v":0},{"$f":"'手控書_(201-)'!V30","v":0},0]
[{"$f":"'手控書_(201-)'!A37","v":301},{"$f":"'手控書_(201-)'!B37","v":0},{"$f":"'手控書_(201-)'!C37","v":0},{"$f":"'手控書_(201-)'!D37","v":0},0]
[{"$f":"'手控書_(201-)'!A38","v":302},{"$f":"'手控書_(201-)'!B38","v":0},{"$f":"'手控書_(201-)'!C38","v":0},{"$f":"'手控書_(201-)'!D38","v":0},0]
[{"$f":"'手控書_(201-)'!A39","v":303},{"$f":"'手控書_(201-)'!B39","v":0},{"$f":"'手控書_(201-)'!C39","v":0},{"$f":"'手控書_(201-)'!D39","v":0},0]
[{"$f":"'手控書_(201-)'!A40","v":304},{"$f":"'手控書_(201-)'!B40","v":0},{"$f":"'手控書_(201-)'!C40","v":0},{"$f":"'手控書_(201-)'!D40","v":0},0]
[{"$f":"'手控書_(201-)'!A41","v":305},{"$f":"'手控書_(201-)'!B41","v":0},{"$f":"'手控書_(201-)'!C41","v":0},{"$f":"'手控書_(201-)'!D41","v":0},0]
[{"$f":"'手控書_(201-)'!A42","v":306},{"$f":"'手控書_(201-)'!B42","v":0},{"$f":"'手控書_(201-)'!C42","v":0},{"$f":"'手控書_(201-)'!D42","v":0},0]
[{"$f":"'手控書_(201-)'!A43","v":307},{"$f":"'手控書_(201-)'!B43","v":0},{"$f":"'手控書_(201-)'!C43","v":0},{"$f":"'手控書_(201-)'!D43","v":0},0]
[{"$f":"'手控書_(201-)'!A44","v":308},{"$f":"'手控書_(201-)'!B44","v":0},{"$f":"'手控書_(201-)'!C44","v":0},{"$f":"'手控書_(201-)'!D44","v":0},0]
[{"$f":"'手控書_(201-)'!A45","v":309},{"$f":"'手控書_(201-)'!B45","v":0},{"$f":"'手控書_(201-)'!C45","v":0},{"$f":"'手控書_(201-)'!D45","v":0},0]
[{"$f":"'手控書_(201-)'!A46","v":310},{"$f":"'手控書_(201-)'!B46","v":0},{"$f":"'手控書_(201-)'!C46","v":0},{"$f":"'手控書_(201-)'!D46","v":0},0]
[{"$f":"'手控書_(201-)'!A47","v":311},{"$f":"'手控書_(201-)'!B47","v":0},{"$f":"'手控書_(201-)'!C47","v":0},{"$f":"'手控書_(201-)'!D47","v":0},0]
[{"$f":"'手控書_(201-)'!A48","v":312},{"$f":"'手控書_(201-)'!B48","v":0},{"$f":"'手控書_(201-)'!C48","v":0},{"$f":"'手控書_(201-)'!D48","v":0},0]
[{"$f":"'手控書_(201-)'!A49","v":313},{"$f":"'手控書_(201-)'!B49","v":0},{"$f":"'手控書_(201-)'!C49","v":0},{"$f":"'手控書_(201-)'!D49","v":0},0]
[{"$f":"'手控書_(201-)'!A50","v":314},{"$f":"'手控書_(201-)'!B50","v":0},{"$f":"'手控書_(201-)'!C50","v":0},{"$f":"'手控書_(201-)'!D50","v":0},0]
[{"$f":"'手控書_(201-)'!A51","v":315},{"$f":"'手控書_(201-)'!B51","v":0},{"$f":"'手控書_(201-)'!C51","v":0},{"$f":"'手控書_(201-)'!D51","v":0},0]
[{"$f":"'手控書_(201-)'!A52","v":316},{"$f":"'手控書_(201-)'!B52","v":0},{"$f":"'手控書_(201-)'!C52","v":0},{"$f":"'手控書_(201-)'!D52","v":0},0]
[{"$f":"'手控書_(201-)'!A53","v":317},{"$f":"'手控書_(201-)'!B53","v":0},{"$f":"'手控書_(201-)'!C53","v":0},{"$f":"'手控書_(201-)'!D53","v":0},0]
[{"$f":"'手控書_(201-)'!A54","v":318},{"$f":"'手控書_(201-)'!B54","v":0},{"$f":"'手控書_(201-)'!C54","v":0},{"$f":"'手控書_(201-)'!D54","v":0},0]
[{"$f":"'手控書_(201-)'!A55","v":319},{"$f":"'手控書_(201-)'!B55","v":0},{"$f":"'手控書_(201-)'!C55","v":0},{"$f":"'手控書_(201-)'!D55","v":0},0]
[{"$f":"'手控書_(201-)'!A56","v":320},{"$f":"'手控書_(201-)'!B56","v":0},{"$f":"'手控書_(201-)'!C56","v":0},{"$f":"'手控書_(201-)'!D56","v":0},0]
[{"$f":"'手控書_(201-)'!A57","v":321},{"$f":"'手控書_(201-)'!B57","v":0},{"$f":"'手控書_(201-)'!C57","v":0},{"$f":"'手控書_(201-)'!D57","v":0},0]
[{"$f":"'手控書_(201-)'!A58","v":322},{"$f":"'手控書_(201-)'!B58","v":0},{"$f":"'手控書_(201-)'!C58","v":0},{"$f":"'手控書_(201-)'!D58","v":0},{"$f":"IF(COUNTIF(B323:D323,0)=3,0,IF(COUNTIF(B323:D323,\"<> 0\")=3,0,1))","v":0}]
[{"$f":"'手控書_(201-)'!A59","v":323},{"$f":"'手控書_(201-)'!B59","v":0},{"$f":"'手控書_(201-)'!C59","v":0},{"$f":"'手控書_(201-)'!D59","v":0},0]
[{"$f":"'手控書_(201-)'!A60","v":324},{"$f":"'手控書_(201-)'!B60","v":0},{"$f":"'手控書_(201-)'!C60","v":0},{"$f":"'手控書_(201-)'!D60","v":0},0]
[{"$f":"'手控書_(201-)'!A61","v":325},{"$f":"'手控書_(201-)'!B61","v":0},{"$f":"'手控書_(201-)'!C61","v":0},{"$f":"'手控書_(201-)'!D61","v":0},0]
[{"$f":"'手控書_(201-)'!G37","v":326},{"$f":"'手控書_(201-)'!H37","v":0},{"$f":"'手控書_(201-)'!I37","v":0},{"$f":"'手控書_(201-)'!J37","v":0},0]
[{"$f":"'手控書_(201-)'!G38","v":327},{"$f":"'手控書_(201-)'!H38","v":0},{"$f":"'手控書_(201-)'!I38","v":0},{"$f":"'手控書_(201-)'!J38","v":0},0]
[{"$f":"'手控書_(201-)'!G39","v":328},{"$f":"'手控書_(201-)'!H39","v":0},{"$f":"'手控書_(201-)'!I39","v":0},{"$f":"'手控書_(201-)'!J39","v":0},0]
[{"$f":"'手控書_(201-)'!G40","v":329},{"$f":"'手控書_(201-)'!H40","v":0},{"$f":"'手控書_(201-)'!I40","v":0},{"$f":"'手控書_(201-)'!J40","v":0},0]
[{"$f":"'手控書_(201-)'!G41","v":330},{"$f":"'手控書_(201-)'!H41","v":0},{"$f":"'手控書_(201-)'!I41","v":0},{"$f":"'手控書_(201-)'!J41","v":0},0]
[{"$f":"'手控書_(201-)'!G42","v":331},{"$f":"'手控書_(201-)'!H42","v":0},{"$f":"'手控書_(201-)'!I42","v":0},{"$f":"'手控書_(201-)'!J42","v":0},0]
[{"$f":"'手控書_(201-)'!G43","v":332},{"$f":"'手控書_(201-)'!H43","v":0},{"$f":"'手控書_(201-)'!I43","v":0},{"$f":"'手控書_(201-)'!J43","v":0},0]
[{"$f":"'手控書_(201-)'!G44","v":333},{"$f":"'手控書_(201-)'!H44","v":0},{"$f":"'手控書_(201-)'!I44","v":0},{"$f":"'手控書_(201-)'!J44","v":0},0]
[{"$f":"'手控書_(201-)'!G45","v":334},{"$f":"'手控書_(201-)'!H45","v":0},{"$f":"'手控書_(201-)'!I45","v":0},{"$f":"'手控書_(201-)'!J45","v":0},0]
[{"$f":"'手控書_(201-)'!G46","v":335},{"$f":"'手控書_(201-)'!H46","v":0},{"$f":"'手控書_(201-)'!I46","v":0},{"$f":"'手控書_(201-)'!J46","v":0},0]
[{"$f":"'手控書_(201-)'!G47","v":336},{"$f":"'手控書_(201-)'!H47","v":0},{"$f":"'手控書_(201-)'!I47","v":0},{"$f":"'手控書_(201-)'!J47","v":0},0]
[{"$f":"'手控書_(201-)'!G48","v":337},{"$f":"'手控書_(201-)'!H48","v":0},{"$f":"'手控書_(201-)'!I48","v":0},{"$f":"'手控書_(201-)'!J48","v":0},0]
[{"$f":"'手控書_(201-)'!G49","v":338},{"$f":"'手控書_(201-)'!H49","v":0},{"$f":"'手控書_(201-)'!I49","v":0},{"$f":"'手控書_(201-)'!J49","v":0},0]
[{"$f":"'手控書_(201-)'!G50","v":339},{"$f":"'手控書_(201-)'!H50","v":0},{"$f":"'手控書_(201-)'!I50","v":0},{"$f":"'手控書_(201-)'!J50","v":0},0]
[{"$f":"'手控書_(201-)'!G51","v":340},{"$f":"'手控書_(201-)'!H51","v":0},{"$f":"'手控書_(201-)'!I51","v":0},{"$f":"'手控書_(201-)'!J51","v":0},0]
[{"$f":"'手控書_(201-)'!G52","v":341},{"$f":"'手控書_(201-)'!H52","v":0},{"$f":"'手控書_(201-)'!I52","v":0},{"$f":"'手控書_(201-)'!J52","v":0},0]
[{"$f":"'手控書_(201-)'!G53","v":342},{"$f":"'手控書_(201-)'!H53","v":0},{"$f":"'手控書_(201-)'!I53","v":0},{"$f":"'手控書_(201-)'!J53","v":0},0]
[{"$f":"'手控書_(201-)'!G54","v":343},{"$f":"'手控書_(201-)'!H54","v":0},{"$f":"'手控書_(201-)'!I54","v":0},{"$f":"'手控書_(201-)'!J54","v":0},0]
[{"$f":"'手控書_(201-)'!G55","v":344},{"$f":"'手控書_(201-)'!H55","v":0},{"$f":"'手控書_(201-)'!I55","v":0},{"$f":"'手控書_(201-)'!J55","v":0},0]
[{"$f":"'手控書_(201-)'!G56","v":345},{"$f":"'手控書_(201-)'!H56","v":0},{"$f":"'手控書_(201-)'!I56","v":0},{"$f":"'手控書_(201-)'!J56","v":0},0]
[{"$f":"'手控書_(201-)'!G57","v":346},{"$f":"'手控書_(201-)'!H57","v":0},{"$f":"'手控書_(201-)'!I57","v":0},{"$f":"'手控書_(201-)'!J57","v":0},0]
[{"$f":"'手控書_(201-)'!G58","v":347},{"$f":"'手控書_(201-)'!H58","v":0},{"$f":"'手控書_(201-)'!I58","v":0},{"$f":"'手控書_(201-)'!J58","v":0},0]
[{"$f":"'手控書_(201-)'!G59","v":348},{"$f":"'手控書_(201-)'!H59","v":0},{"$f":"'手控書_(201-)'!I59","v":0},{"$f":"'手控書_(201-)'!J59","v":0},0]
[{"$f":"'手控書_(201-)'!G60","v":349},{"$f":"'手控書_(201-)'!H60","v":0},{"$f":"'手控書_(201-)'!I60","v":0},{"$f":"'手控書_(201-)'!J60","v":0},0]
[{"$f":"'手控書_(201-)'!G61","v":350},{"$f":"'手控書_(201-)'!H61","v":0},{"$f":"'手控書_(201-)'!I61","v":0},{"$f":"'手控書_(201-)'!J61","v":0},0]
[{"$f":"'手控書_(201-)'!M37","v":351},{"$f":"'手控書_(201-)'!N37","v":0},{"$f":"'手控書_(201-)'!O37","v":0},{"$f":"'手控書_(201-)'!P37","v":0},0]
[{"$f":"'手控書_(201-)'!M38","v":352},{"$f":"'手控書_(201-)'!N38","v":0},{"$f":"'手控書_(201-)'!O38","v":0},{"$f":"'手控書_(201-)'!P38","v":0},0]
[{"$f":"'手控書_(201-)'!M39","v":353},{"$f":"'手控書_(201-)'!N39","v":0},{"$f":"'手控書_(201-)'!O39","v":0},{"$f":"'手控書_(201-)'!P39","v":0},0]
[{"$f":"'手控書_(201-)'!M40","v":354},{"$f":"'手控書_(201-)'!N40","v":0},{"$f":"'手控書_(201-)'!O40","v":0},{"$f":"'手控書_(201-)'!P40","v":0},0]
[{"$f":"'手控書_(201-)'!M41","v":355},{"$f":"'手控書_(201-)'!N41","v":0},{"$f":"'手控書_(201-)'!O41","v":0},{"$f":"'手控書_(201-)'!P41","v":0},0]
[{"$f":"'手控書_(201-)'!M42","v":356},{"$f":"'手控書_(201-)'!N42","v":0},{"$f":"'手控書_(201-)'!O42","v":0},{"$f":"'手控書_(201-)'!P42","v":0},0]
[{"$f":"'手控書_(201-)'!M43","v":357},{"$f":"'手控書_(201-)'!N43","v":0},{"$f":"'手控書_(201-)'!O43","v":0},{"$f":"'手控書_(201-)'!P43","v":0},0]
[{"$f":"'手控書_(201-)'!M44","v":358},{"$f":"'手控書_(201-)'!N44","v":0},{"$f":"'手控書_(201-)'!O44","v":0},{"$f":"'手控書_(201-)'!P44","v":0},0]
[{"$f":"'手控書_(201-)'!M45","v":359},{"$f":"'手控書_(201-)'!N45","v":0},{"$f":"'手控書_(201-)'!O45","v":0},{"$f":"'手控書_(201-)'!P45","v":0},0]
[{"$f":"'手控書_(201-)'!M46","v":360},{"$f":"'手控書_(201-)'!N46","v":0},{"$f":"'手控書_(201-)'!O46","v":0},{"$f":"'手控書_(201-)'!P46","v":0},0]
[{"$f":"'手控書_(201-)'!M47","v":361},{"$f":"'手控書_(201-)'!N47","v":0},{"$f":"'手控書_(201-)'!O47","v":0},{"$f":"'手控書_(201-)'!P47","v":0},0]
[{"$f":"'手控書_(201-)'!M48","v":362},{"$f":"'手控書_(201-)'!N48","v":0},{"$f":"'手控書_(201-)'!O48","v":0},{"$f":"'手控書_(201-)'!P48","v":0},0]
[{"$f":"'手控書_(201-)'!M49","v":363},{"$f":"'手控書_(201-)'!N49","v":0},{"$f":"'手控書_(201-)'!O49","v":0},{"$f":"'手控書_(201-)'!P49","v":0},0]
[{"$f":"'手控書_(201-)'!M50","v":364},{"$f":"'手控書_(201-)'!N50","v":0},{"$f":"'手控書_(201-)'!O50","v":0},{"$f":"'手控書_(201-)'!P50","v":0},0]
[{"$f":"'手控書_(201-)'!M51","v":365},{"$f":"'手控書_(201-)'!N51","v":0},{"$f":"'手控書_(201-)'!O51","v":0},{"$f":"'手控書_(201-)'!P51","v":0},0]
[{"$f":"'手控書_(201-)'!M52","v":366},{"$f":"'手控書_(201-)'!N52","v":0},{"$f":"'手控書_(201-)'!O52","v":0},{"$f":"'手控書_(201-)'!P52","v":0},0]
[{"$f":"'手控書_(201-)'!M53","v":367},{"$f":"'手控書_(201-)'!N53","v":0},{"$f":"'手控書_(201-)'!O53","v":0},{"$f":"'手控書_(201-)'!P53","v":0},0]
[{"$f":"'手控書_(201-)'!M54","v":368},{"$f":"'手控書_(201-)'!N54","v":0},{"$f":"'手控書_(201-)'!O54","v":0},{"$f":"'手控書_(201-)'!P54","v":0},0]
[{"$f":"'手控書_(201-)'!M55","v":369},{"$f":"'手控書_(201-)'!N55","v":0},{"$f":"'手控書_(201-)'!O55","v":0},{"$f":"'手控書_(201-)'!P55","v":0},0]
[{"$f":"'手控書_(201-)'!M56","v":370},{"$f":"'手控書_(201-)'!N56","v":0},{"$f":"'手控書_(201-)'!O56","v":0},{"$f":"'手控書_(201-)'!P56","v":0},0]
[{"$f":"'手控書_(201-)'!M57","v":371},{"$f":"'手控書_(201-)'!N57","v":0},{"$f":"'手控書_(201-)'!O57","v":0},{"$f":"'手控書_(201-)'!P57","v":0},0]
[{"$f":"'手控書_(201-)'!M58","v":372},{"$f":"'手控書_(201-)'!N58","v":0},{"$f":"'手控書_(201-)'!O58","v":0},{"$f":"'手控書_(201-)'!P58","v":0},0]
[{"$f":"'手控書_(201-)'!M59","v":373},{"$f":"'手控書_(201-)'!N59","v":0},{"$f":"'手控書_(201-)'!O59","v":0},{"$f":"'手控書_(201-)'!P59","v":0},0]
[{"$f":"'手控書_(201-)'!M60","v":374},{"$f":"'手控書_(201-)'!N60","v":0},{"$f":"'手控書_(201-)'!O60","v":0},{"$f":"'手控書_(201-)'!P60","v":0},0]
[{"$f":"'手控書_(201-)'!M61","v":375},{"$f":"'手控書_(201-)'!N61","v":0},{"$f":"'手控書_(201-)'!O61","v":0},{"$f":"'手控書_(201-)'!P61","v":0},0]
[{"$f":"'手控書_(201-)'!S37","v":376},{"$f":"'手控書_(201-)'!T37","v":0},{"$f":"'手控書_(201-)'!U37","v":0},{"$f":"'手控書_(201-)'!V37","v":0},0]
[{"$f":"'手控書_(201-)'!S38","v":377},{"$f":"'手控書_(201-)'!T38","v":0},{"$f":"'手控書_(201-)'!U38","v":0},{"$f":"'手控書_(201-)'!V38","v":0},0]
[{"$f":"'手控書_(201-)'!S39","v":378},{"$f":"'手控書_(201-)'!T39","v":0},{"$f":"'手控書_(201-)'!U39","v":0},{"$f":"'手控書_(201-)'!V39","v":0},0]
[{"$f":"'手控書_(201-)'!S40","v":379},{"$f":"'手控書_(201-)'!T40","v":0},{"$f":"'手控書_(201-)'!U40","v":0},{"$f":"'手控書_(201-)'!V40","v":0},0]
[{"$f":"'手控書_(201-)'!S41","v":380},{"$f":"'手控書_(201-)'!T41","v":0},{"$f":"'手控書_(201-)'!U41","v":0},{"$f":"'手控書_(201-)'!V41","v":0},0]
[{"$f":"'手控書_(201-)'!S42","v":381},{"$f":"'手控書_(201-)'!T42","v":0},{"$f":"'手控書_(201-)'!U42","v":0},{"$f":"'手控書_(201-)'!V42","v":0},0]
[{"$f":"'手控書_(201-)'!S43","v":382},{"$f":"'手控書_(201-)'!T43","v":0},{"$f":"'手控書_(201-)'!U43","v":0},{"$f":"'手控書_(201-)'!V43","v":0},0]
[{"$f":"'手控書_(201-)'!S44","v":383},{"$f":"'手控書_(201-)'!T44","v":0},{"$f":"'手控書_(201-)'!U44","v":0},{"$f":"'手控書_(201-)'!V44","v":0},0]
[{"$f":"'手控書_(201-)'!S45","v":384},{"$f":"'手控書_(201-)'!T45","v":0},{"$f":"'手控書_(201-)'!U45","v":0},{"$f":"'手控書_(201-)'!V45","v":0},0]
[{"$f":"'手控書_(201-)'!S46","v":385},{"$f":"'手控書_(201-)'!T46","v":0},{"$f":"'手控書_(201-)'!U46","v":0},{"$f":"'手控書_(201-)'!V46","v":0},0]
[{"$f":"'手控書_(201-)'!S47","v":386},{"$f":"'手控書_(201-)'!T47","v":0},{"$f":"'手控書_(201-)'!U47","v":0},{"$f":"'手控書_(201-)'!V47","v":0},{"$f":"IF(COUNTIF(B387:D387,0)=3,0,IF(COUNTIF(B387:D387,\"<> 0\")=3,0,1))","v":0}]
[{"$f":"'手控書_(201-)'!S48","v":387},{"$f":"'手控書_(201-)'!T48","v":0},{"$f":"'手控書_(201-)'!U48","v":0},{"$f":"'手控書_(201-)'!V48","v":0},0]
[{"$f":"'手控書_(201-)'!S49","v":388},{"$f":"'手控書_(201-)'!T49","v":0},{"$f":"'手控書_(201-)'!U49","v":0},{"$f":"'手控書_(201-)'!V49","v":0},0]
[{"$f":"'手控書_(201-)'!S50","v":389},{"$f":"'手控書_(201-)'!T50","v":0},{"$f":"'手控書_(201-)'!U50","v":0},{"$f":"'手控書_(201-)'!V50","v":0},0]
[{"$f":"'手控書_(201-)'!S51","v":390},{"$f":"'手控書_(201-)'!T51","v":0},{"$f":"'手控書_(201-)'!U51","v":0},{"$f":"'手控書_(201-)'!V51","v":0},0]
[{"$f":"'手控書_(201-)'!S52","v":391},{"$f":"'手控書_(201-)'!T52","v":0},{"$f":"'手控書_(201-)'!U52","v":0},{"$f":"'手控書_(201-)'!V52","v":0},0]
[{"$f":"'手控書_(201-)'!S53","v":392},{"$f":"'手控書_(201-)'!T53","v":0},{"$f":"'手控書_(201-)'!U53","v":0},{"$f":"'手控書_(201-)'!V53","v":0},0]
[{"$f":"'手控書_(201-)'!S54","v":393},{"$f":"'手控書_(201-)'!T54","v":0},{"$f":"'手控書_(201-)'!U54","v":0},{"$f":"'手控書_(201-)'!V54","v":0},0]
[{"$f":"'手控書_(201-)'!S55","v":394},{"$f":"'手控書_(201-)'!T55","v":0},{"$f":"'手控書_(201-)'!U55","v":0},{"$f":"'手控書_(201-)'!V55","v":0},0]
[{"$f":"'手控書_(201-)'!S56","v":395},{"$f":"'手控書_(201-)'!T56","v":0},{"$f":"'手控書_(201-)'!U56","v":0},{"$f":"'手控書_(201-)'!V56","v":0},0]
[{"$f":"'手控書_(201-)'!S57","v":396},{"$f":"'手控書_(201-)'!T57","v":0},{"$f":"'手控書_(201-)'!U57","v":0},{"$f":"'手控書_(201-)'!V57","v":0},0]
[{"$f":"'手控書_(201-)'!S58","v":397},{"$f":"'手控書_(201-)'!T58","v":0},{"$f":"'手控書_(201-)'!U58","v":0},{"$f":"'手控書_(201-)'!V58","v":0},0]
[{"$f":"'手控書_(201-)'!S59","v":398},{"$f":"'手控書_(201-)'!T59","v":0},{"$f":"'手控書_(201-)'!U59","v":0},{"$f":"'手控書_(201-)'!V59","v":0},0]
[{"$f":"'手控書_(201-)'!S60","v":399},{"$f":"'手控書_(201-)'!T60","v":0},{"$f":"'手控書_(201-)'!U60","v":0},{"$f":"'手控書_(201-)'!V60","v":0},0]
[{"$f":"'手控書_(201-)'!S61","v":400},{"$f":"'手控書_(201-)'!T61","v":0},{"$f":"'手控書_(201-)'!U61","v":0},{"$f":"'手控書_(201-)'!V61","v":0},0]
[null,null,null,{"$f":"SUM(D2:D401)","v":0},{"$f":"SUM(E2:E401)","v":0}]
[null,null,null,{"$f":"400-COUNTIF(D2:D401,0)","v":0}]